BEGIN:VCALENDAR
VERSION:2.0
PRODID:VSD-Portal-www.volley.de
METHOD:PUBLISH
BEGIN:VEVENT
UID:264891-0b1cb5f82de24c98f11e829bddb1f0f9
X-WR-RELCALID:264891-0b1cb5f82de24c98f11e829bddb1f0f9
ORGANIZER:Volleyball
SEQUENCE:261140509
LOCATION:Schulturnhalle, Schulstraße 5, 97285 Röttingen
GEO:49.50936000000000000000;9.97354000000000000000
SUMMARY:KL UFR Mä.: TSV Großheubach III - TV Sailauf II
CLASS:PUBLIC
DTSTART:20210307T100000Z
DTSTAMP:20200926T161100Z
END:VEVENT
END:VCALENDAR