BEGIN:VCALENDAR
VERSION:2.0
PRODID:VSD-Portal-www.volley.de
METHOD:PUBLISH
BEGIN:VEVENT
UID:264896-0b1cb5f82de24c98f11e829bddb1f0f9
X-WR-RELCALID:264896-0b1cb5f82de24c98f11e829bddb1f0f9
ORGANIZER:Volleyball
SEQUENCE:261110505
LOCATION:Schulturnhalle, Gänsrain 4, 63911 Klingenberg-Trennfurt
GEO:49.77535128511135600000;9.17186840475460500000
SUMMARY:KL UFR Mä.: TV Trennfurt II - TSV Röttingen III
CLASS:PUBLIC
DTSTART:20210313T130000Z
DTSTAMP:20200926T161100Z
END:VEVENT
END:VCALENDAR