BEGIN:VCALENDAR
VERSION:2.0
PRODID:VSD-Portal-www.volley.de
METHOD:PUBLISH
BEGIN:VEVENT
UID:259507-0b1cb5f82de24c98f11e829bddb1f0f9
X-WR-RELCALID:259507-0b1cb5f82de24c98f11e829bddb1f0f9
ORGANIZER:Volleyball
SEQUENCE:261111125
LOCATION:Berufsschulen Riesstr., Riesstraße 32 - 50, 80992 München
GEO:48.18079754756488000000;11.53716269577023500000
SUMMARY:BKL3 Fr.: SV/DJK Taufkirchen - TSV Murnau
CLASS:PUBLIC
DTSTART:20201114T120000Z
DTSTAMP:20200818T080800Z
END:VEVENT
END:VCALENDAR