BEGIN:VCALENDAR
VERSION:2.0
PRODID:VSD-Portal-www.volley.de
METHOD:PUBLISH
BEGIN:VEVENT
UID:259546-0b1cb5f82de24c98f11e829bddb1f0f9
X-WR-RELCALID:259546-0b1cb5f82de24c98f11e829bddb1f0f9
ORGANIZER:Volleyball
SEQUENCE:261141548
LOCATION:Sporthalle Putzbrunn, Hohenbrunner Str. 3, 85640 Putzbrunn
GEO:48.07357879293046000000;11.71586559524530400000
SUMMARY:BKL3 Fr.: Putzbrunner SV - PSV München II
CLASS:PUBLIC
DTSTART:20201212T110000Z
DTSTAMP:20200818T080800Z
END:VEVENT
END:VCALENDAR