BEGIN:VCALENDAR
VERSION:2.0
PRODID:VSD-Portal-www.volley.de
METHOD:PUBLISH
BEGIN:VEVENT
UID:263086-0b1cb5f82de24c98f11e829bddb1f0f9
X-WR-RELCALID:263086-0b1cb5f82de24c98f11e829bddb1f0f9
ORGANIZER:Volleyball
SEQUENCE:261140439
LOCATION:Sporthalle Rathausstr., Rathausstr., 85640 Putzbrunn
GEO:48.07348920139406000000;11.71595413491820600000
SUMMARY:KL4 Fr.: Putzbrunner SV II - Gautinger SC
CLASS:PUBLIC
DTSTART:20201024T090000Z
DTSTAMP:20200917T132200Z
END:VEVENT
END:VCALENDAR