BEGIN:VCALENDAR
VERSION:2.0
PRODID:VSD-Portal-www.volley.de
METHOD:PUBLISH
BEGIN:VEVENT
UID:263162-0b1cb5f82de24c98f11e829bddb1f0f9
X-WR-RELCALID:263162-0b1cb5f82de24c98f11e829bddb1f0f9
ORGANIZER:Volleyball
SEQUENCE:261140435
LOCATION:Dreifachhalle der Paul-Hey-Mittelschule, Birkenstr. 3, 82131 
 Gauting
GEO:48.07697000000000000000;11.37513000000000000000
SUMMARY:KL4 Fr.: Gautinger SC - TSV Hohenb.-Riemerling II
CLASS:PUBLIC
DTSTART:20201121T090000Z
DTSTAMP:20200917T135600Z
END:VEVENT
END:VCALENDAR