BEGIN:VCALENDAR
VERSION:2.0
PRODID:VSD-Portal-www.volley.de
METHOD:PUBLISH
BEGIN:VEVENT
UID:263166-0b1cb5f82de24c98f11e829bddb1f0f9
X-WR-RELCALID:263166-0b1cb5f82de24c98f11e829bddb1f0f9
ORGANIZER:Volleyball
SEQUENCE:261140049
LOCATION:Neue Sporthalle am Wellenbad / am Tennispark, Birkenstraße 4,
  82377 Penzberg
GEO:47.75902947438406400000;11.37274813491819700000
SUMMARY:KL4 Fr.: TSV Penzberg - TSV Hohenb.-Riemerling II
CLASS:PUBLIC
DTSTART:20201128T130000Z
DTSTAMP:20200917T135600Z
END:VEVENT
END:VCALENDAR