BEGIN:VCALENDAR
VERSION:2.0
PRODID:VSD-Portal-www.volley.de
METHOD:PUBLISH
BEGIN:VEVENT
UID:263190-0b1cb5f82de24c98f11e829bddb1f0f9
X-WR-RELCALID:263190-0b1cb5f82de24c98f11e829bddb1f0f9
ORGANIZER:Volleyball
SEQUENCE:261140239
LOCATION:Gymnasiumhalle, Jörg-Hube-Straße 4, 83607 Holzkirchen
GEO:47.88775676620160500000;11.70464832275388300000
SUMMARY:KL4 Fr.: SV Inning II - TSV Penzberg
CLASS:PUBLIC
DTSTART:20210206T100000Z
DTSTAMP:20200917T142900Z
END:VEVENT
END:VCALENDAR