BEGIN:VCALENDAR
VERSION:2.0
PRODID:VSD-Portal-www.volley.de
METHOD:PUBLISH
BEGIN:VEVENT
UID:263198-0b1cb5f82de24c98f11e829bddb1f0f9
X-WR-RELCALID:263198-0b1cb5f82de24c98f11e829bddb1f0f9
ORGANIZER:Volleyball
SEQUENCE:261140048
LOCATION:Sportzentrum, Schornstr. 3, 82266 Inning
GEO:48.07151205714260000000;11.14422647354126600000
SUMMARY:KL4 Fr.: Putzbrunner SV II - TUS Holzkirchen
CLASS:PUBLIC
DTSTART:20210227T133000Z
DTSTAMP:20200917T142900Z
END:VEVENT
END:VCALENDAR