BEGIN:VCALENDAR
VERSION:2.0
PRODID:VSD-Portal-www.volley.de
METHOD:PUBLISH
BEGIN:VEVENT
UID:263199-0b1cb5f82de24c98f11e829bddb1f0f9
X-WR-RELCALID:263199-0b1cb5f82de24c98f11e829bddb1f0f9
ORGANIZER:Volleyball
SEQUENCE:261131916
LOCATION:Gymnasiumhalle, Jörg-Hube-Straße 4, 83607 Holzkirchen
GEO:47.88775676620160500000;11.70464832275388300000
SUMMARY:KL4 Fr.: TUS Holzkirchen II - TSV Hohenb.-Riemerling II
CLASS:PUBLIC
DTSTART:20210306T130000Z
DTSTAMP:20200917T142900Z
END:VEVENT
END:VCALENDAR