BEGIN:VCALENDAR
VERSION:2.0
PRODID:VSD-Portal-www.volley.de
METHOD:PUBLISH
BEGIN:VEVENT
UID:263089-0b1cb5f82de24c98f11e829bddb1f0f9
X-WR-RELCALID:263089-0b1cb5f82de24c98f11e829bddb1f0f9
ORGANIZER:Volleyball
SEQUENCE:261140238
LOCATION:Grundschule Riemerling, Georg-Kerschensteiner-Str. 1, 85521 O
 ttobrunn
GEO:48.06239757239989500000;11.68295600265503300000
SUMMARY:KL4 Fr.: TSV Hohenb.-Riemerling II - TUS Holzkirchen II
CLASS:PUBLIC
DTSTART:20201024T100000Z
DTSTAMP:20200917T132200Z
END:VEVENT
BEGIN:VEVENT
UID:263090-0b1cb5f82de24c98f11e829bddb1f0f9
X-WR-RELCALID:263090-0b1cb5f82de24c98f11e829bddb1f0f9
ORGANIZER:Volleyball
SEQUENCE:261140238
LOCATION:Grundschule Riemerling, Georg-Kerschensteiner-Str. 1, 85521 O
 ttobrunn
GEO:48.06239757239989500000;11.68295600265503300000
SUMMARY:KL4 Fr.: TSV Hohenb.-Riemerling II - TV Lenggries II
CLASS:PUBLIC
DTSTART:20201024T100000Z
DTSTAMP:20200917T132200Z
END:VEVENT
BEGIN:VEVENT
UID:263183-0b1cb5f82de24c98f11e829bddb1f0f9
X-WR-RELCALID:263183-0b1cb5f82de24c98f11e829bddb1f0f9
ORGANIZER:Volleyball
SEQUENCE:261140238
LOCATION:Grundschule Riemerling, Georg-Kerschensteiner-Str. 1, 85521 O
 ttobrunn
GEO:48.06239757239989500000;11.68295600265503300000
SUMMARY:KL4 Fr.: TSV Hohenb.-Riemerling II - TV Lenggries II
CLASS:PUBLIC
DTSTART:20210123T110000Z
DTSTAMP:20200917T141600Z
END:VEVENT
BEGIN:VEVENT
UID:263184-0b1cb5f82de24c98f11e829bddb1f0f9
X-WR-RELCALID:263184-0b1cb5f82de24c98f11e829bddb1f0f9
ORGANIZER:Volleyball
SEQUENCE:261140238
LOCATION:Grundschule Riemerling, Georg-Kerschensteiner-Str. 1, 85521 O
 ttobrunn
GEO:48.06239757239989500000;11.68295600265503300000
SUMMARY:KL4 Fr.: TSV Hohenb.-Riemerling II - TUS Holzkirchen
CLASS:PUBLIC
DTSTART:20210123T110000Z
DTSTAMP:20200917T141600Z
END:VEVENT
END:VCALENDAR