BEGIN:VCALENDAR
VERSION:2.0
PRODID:VSD-Portal-www.volley.de
METHOD:PUBLISH
BEGIN:VEVENT
UID:265217-0b1cb5f82de24c98f11e829bddb1f0f9
X-WR-RELCALID:265217-0b1cb5f82de24c98f11e829bddb1f0f9
ORGANIZER:Volleyball
SEQUENCE:261141546
LOCATION:Grundschule Aichach Nord, Mozartstr. 1, 86551 Aichach
GEO:48.46954690732586400000;11.14376603439336600000
SUMMARY:U 18 BZL m: TSV Pfuhl - a.K. - TSV Schwabmünchen
CLASS:PUBLIC
DTSTART:20201206T090000Z
DTSTAMP:20200927T174300Z
END:VEVENT
END:VCALENDAR