BEGIN:VCALENDAR
VERSION:2.0
PRODID:VSD-Portal-www.volley.de
METHOD:PUBLISH
BEGIN:VEVENT
UID:268239-0b1cb5f82de24c98f11e829bddb1f0f9
X-WR-RELCALID:268239-0b1cb5f82de24c98f11e829bddb1f0f9
ORGANIZER:Volleyball
SEQUENCE:261152025
SUMMARY:Ch Nord Mi.: TV Altötting II - TSV Mühldorf II
CLASS:PUBLIC
DTSTART:20201130T190000Z
DTSTAMP:20201022T135800Z
END:VEVENT
END:VCALENDAR