BEGIN:VCALENDAR
VERSION:2.0
PRODID:VSD-Portal-www.volley.de
METHOD:PUBLISH
BEGIN:VEVENT
UID:266906-0b1cb5f82de24c98f11e829bddb1f0f9
X-WR-RELCALID:266906-0b1cb5f82de24c98f11e829bddb1f0f9
ORGANIZER:Volleyball
SEQUENCE:261141225
LOCATION:Schulsporthalle, Dr.-Färber-Str. 5, 93167 Falkenstein
GEO:49.09900765363517000000;12.48686064285277600000
SUMMARY:KR U11 NS mi: FC Miltach m - FC Miltach m II
CLASS:PUBLIC
DTSTART:20201122T090000Z
DTSTAMP:20201008T054200Z
END:VEVENT
END:VCALENDAR