BEGIN:VCALENDAR
VERSION:2.0
PRODID:VSD-Portal-www.volley.de
METHOD:PUBLISH
BEGIN:VEVENT
UID:267231-0b1cb5f82de24c98f11e829bddb1f0f9
X-WR-RELCALID:267231-0b1cb5f82de24c98f11e829bddb1f0f9
ORGANIZER:Volleyball
SEQUENCE:261151349
LOCATION:Mehrzweckhalle, Bahnhofstr. 1, 93468 Miltach
GEO:49.12149000000000000000;12.75664000000000000000
SUMMARY:KR U11 NS mi: VC Amberg w - TSV Falkenstein w
CLASS:PUBLIC
DTSTART:20201206T090000Z
DTSTAMP:20201011T092000Z
END:VEVENT
END:VCALENDAR