BEGIN:VCALENDAR
VERSION:2.0
PRODID:VSD-Portal-www.volley.de
METHOD:PUBLISH
BEGIN:VEVENT
UID:187747-2da69939ed67427dc6bf3daba21059e9
X-WR-RELCALID:187747-2da69939ed67427dc6bf3daba21059e9
ORGANIZER:Volleyball
SEQUENCE:261110134
SUMMARY:BL 4 Mä.: TuS Bramsche - VfL Bad Iburg
CLASS:PUBLIC
DTSTART;VALUE=DATE:20081004
DTSTAMP:20140607T181800Z
DTEND;VALUE=DATE:20081005
END:VEVENT
BEGIN:VEVENT
UID:187755-2da69939ed67427dc6bf3daba21059e9
X-WR-RELCALID:187755-2da69939ed67427dc6bf3daba21059e9
ORGANIZER:Volleyball
SEQUENCE:261110134
SUMMARY:BL 4 Mä.: Hagener SV - VfL Bad Iburg
CLASS:PUBLIC
DTSTART;VALUE=DATE:20081101
DTSTAMP:20140607T181800Z
DTEND;VALUE=DATE:20081102
END:VEVENT
BEGIN:VEVENT
UID:187758-2da69939ed67427dc6bf3daba21059e9
X-WR-RELCALID:187758-2da69939ed67427dc6bf3daba21059e9
ORGANIZER:Volleyball
SEQUENCE:261110134
SUMMARY:BL 4 Mä.: VfL Bad Iburg - SSC Dodesheide
CLASS:PUBLIC
DTSTART;VALUE=DATE:20081108
DTSTAMP:20140607T181800Z
DTEND;VALUE=DATE:20081109
END:VEVENT
BEGIN:VEVENT
UID:187763-2da69939ed67427dc6bf3daba21059e9
X-WR-RELCALID:187763-2da69939ed67427dc6bf3daba21059e9
ORGANIZER:Volleyball
SEQUENCE:261110134
SUMMARY:BL 4 Mä.: TuS Aschen-Strang II - VfL Bad Iburg
CLASS:PUBLIC
DTSTART;VALUE=DATE:20081115
DTSTAMP:20140607T181800Z
DTEND;VALUE=DATE:20081116
END:VEVENT
BEGIN:VEVENT
UID:187767-2da69939ed67427dc6bf3daba21059e9
X-WR-RELCALID:187767-2da69939ed67427dc6bf3daba21059e9
ORGANIZER:Volleyball
SEQUENCE:261110134
SUMMARY:BL 4 Mä.: SC Melle 03 - VfL Bad Iburg
CLASS:PUBLIC
DTSTART;VALUE=DATE:20081123
DTSTAMP:20140607T181800Z
DTEND;VALUE=DATE:20081124
END:VEVENT
BEGIN:VEVENT
UID:187769-2da69939ed67427dc6bf3daba21059e9
X-WR-RELCALID:187769-2da69939ed67427dc6bf3daba21059e9
ORGANIZER:Volleyball
SEQUENCE:261110134
SUMMARY:BL 4 Mä.: VfL Bad Iburg - SV Bad Laer
CLASS:PUBLIC
DTSTART;VALUE=DATE:20081130
DTSTAMP:20140607T181800Z
DTEND;VALUE=DATE:20081201
END:VEVENT
BEGIN:VEVENT
UID:187770-2da69939ed67427dc6bf3daba21059e9
X-WR-RELCALID:187770-2da69939ed67427dc6bf3daba21059e9
ORGANIZER:Volleyball
SEQUENCE:261110134
SUMMARY:BL 4 Mä.: VfL Bad Iburg - VfR Voxtrup III
CLASS:PUBLIC
DTSTART;VALUE=DATE:20081130
DTSTAMP:20140607T181800Z
DTEND;VALUE=DATE:20081201
END:VEVENT
BEGIN:VEVENT
UID:187779-2da69939ed67427dc6bf3daba21059e9
X-WR-RELCALID:187779-2da69939ed67427dc6bf3daba21059e9
ORGANIZER:Volleyball
SEQUENCE:261110134
SUMMARY:BL 4 Mä.: VfL Bad Iburg - Hagener SV
CLASS:PUBLIC
DTSTART;VALUE=DATE:20090110
DTSTAMP:20140607T181800Z
DTEND;VALUE=DATE:20090111
END:VEVENT
BEGIN:VEVENT
UID:187780-2da69939ed67427dc6bf3daba21059e9
X-WR-RELCALID:187780-2da69939ed67427dc6bf3daba21059e9
ORGANIZER:Volleyball
SEQUENCE:261110134
SUMMARY:BL 4 Mä.: VfL Bad Iburg - TuS Bramsche
CLASS:PUBLIC
DTSTART;VALUE=DATE:20090110
DTSTAMP:20140607T181800Z
DTEND;VALUE=DATE:20090111
END:VEVENT
BEGIN:VEVENT
UID:187784-2da69939ed67427dc6bf3daba21059e9
X-WR-RELCALID:187784-2da69939ed67427dc6bf3daba21059e9
ORGANIZER:Volleyball
SEQUENCE:261110134
SUMMARY:BL 4 Mä.: SSC Dodesheide - VfL Bad Iburg
CLASS:PUBLIC
DTSTART;VALUE=DATE:20090124
DTSTAMP:20140607T181800Z
DTEND;VALUE=DATE:20090125
END:VEVENT
BEGIN:VEVENT
UID:187789-2da69939ed67427dc6bf3daba21059e9
X-WR-RELCALID:187789-2da69939ed67427dc6bf3daba21059e9
ORGANIZER:Volleyball
SEQUENCE:261110134
SUMMARY:BL 4 Mä.: VfR Voxtrup III - VfL Bad Iburg
CLASS:PUBLIC
DTSTART;VALUE=DATE:20090207
DTSTAMP:20140607T181800Z
DTEND;VALUE=DATE:20090208
END:VEVENT
BEGIN:VEVENT
UID:187793-2da69939ed67427dc6bf3daba21059e9
X-WR-RELCALID:187793-2da69939ed67427dc6bf3daba21059e9
ORGANIZER:Volleyball
SEQUENCE:261110134
SUMMARY:BL 4 Mä.: VfL Bad Iburg - TuS Aschen-Strang II
CLASS:PUBLIC
DTSTART;VALUE=DATE:20090222
DTSTAMP:20140607T181800Z
DTEND;VALUE=DATE:20090223
END:VEVENT
BEGIN:VEVENT
UID:187795-2da69939ed67427dc6bf3daba21059e9
X-WR-RELCALID:187795-2da69939ed67427dc6bf3daba21059e9
ORGANIZER:Volleyball
SEQUENCE:261110134
SUMMARY:BL 4 Mä.: VfL Bad Iburg - SC Melle 03
CLASS:PUBLIC
DTSTART;VALUE=DATE:20090226
DTSTAMP:20140607T181800Z
DTEND;VALUE=DATE:20090227
END:VEVENT
BEGIN:VEVENT
UID:187797-2da69939ed67427dc6bf3daba21059e9
X-WR-RELCALID:187797-2da69939ed67427dc6bf3daba21059e9
ORGANIZER:Volleyball
SEQUENCE:261110134
SUMMARY:BL 4 Mä.: SV Bad Laer - VfL Bad Iburg
CLASS:PUBLIC
DTSTART;VALUE=DATE:20090307
DTSTAMP:20140607T181800Z
DTEND;VALUE=DATE:20090308
END:VEVENT
END:VCALENDAR