BEGIN:VCALENDAR
VERSION:2.0
PRODID:VSD-Portal-www.volley.de
METHOD:PUBLISH
BEGIN:VEVENT
UID:273535-0b1cb5f82de24c98f11e829bddb1f0f9
X-WR-RELCALID:273535-0b1cb5f82de24c98f11e829bddb1f0f9
ORGANIZER:Volleyball
SEQUENCE:261100741
LOCATION:Werner v. Siemens Gymnasium, Quiddestr., 81669 München
GEO:48.11027750451359000000;11.64848821698001300000
SUMMARY:LLSW Fr.: TSV München-Ost - FTM Schwabing II
CLASS:PUBLIC
DTSTART:20211113T133000Z
DTSTAMP:20220331T200800Z
END:VEVENT
BEGIN:VEVENT
UID:273536-0b1cb5f82de24c98f11e829bddb1f0f9
X-WR-RELCALID:273536-0b1cb5f82de24c98f11e829bddb1f0f9
ORGANIZER:Volleyball
SEQUENCE:261100741
LOCATION:Werner v. Siemens Gymnasium, Quiddestr., 81669 München
GEO:48.11027750451359000000;11.64848821698001300000
SUMMARY:LLSW Fr.: TSV München-Ost - TSV Obergünzburg
CLASS:PUBLIC
DTSTART:20211113T133000Z
DTSTAMP:20220331T091700Z
END:VEVENT
BEGIN:VEVENT
UID:273543-0b1cb5f82de24c98f11e829bddb1f0f9
X-WR-RELCALID:273543-0b1cb5f82de24c98f11e829bddb1f0f9
ORGANIZER:Volleyball
SEQUENCE:261100741
LOCATION:Vereinshalle, Sieboldstr. 4, 81669 München
GEO:48.12388000000000000000;11.59246700000000000000
SUMMARY:LLSW Fr.: TSV München-Ost - TV Planegg Krailling II
CLASS:PUBLIC
DTSTART:20211127T133000Z
DTSTAMP:20220331T093300Z
END:VEVENT
BEGIN:VEVENT
UID:273544-0b1cb5f82de24c98f11e829bddb1f0f9
X-WR-RELCALID:273544-0b1cb5f82de24c98f11e829bddb1f0f9
ORGANIZER:Volleyball
SEQUENCE:261100741
LOCATION:Vereinshalle, Sieboldstr. 4, 81669 München
GEO:48.12388000000000000000;11.59246700000000000000
SUMMARY:LLSW Fr.: TSV München-Ost - VfB Eichstätt
CLASS:PUBLIC
DTSTART:20211127T133000Z
DTSTAMP:20220331T201100Z
END:VEVENT
BEGIN:VEVENT
UID:277001-0b1cb5f82de24c98f11e829bddb1f0f9
X-WR-RELCALID:277001-0b1cb5f82de24c98f11e829bddb1f0f9
ORGANIZER:Volleyball
SEQUENCE:261100741
LOCATION:Vereinshalle, Sieboldstr. 4, 81669 München
GEO:48.12388000000000000000;11.59246700000000000000
SUMMARY:LLSW Fr.: TSV München-Ost - SV Lohhof III
CLASS:PUBLIC
DTSTART:20220305T120000Z
DTSTAMP:20220331T094200Z
END:VEVENT
BEGIN:VEVENT
UID:277002-0b1cb5f82de24c98f11e829bddb1f0f9
X-WR-RELCALID:277002-0b1cb5f82de24c98f11e829bddb1f0f9
ORGANIZER:Volleyball
SEQUENCE:261100741
LOCATION:Vereinshalle, Sieboldstr. 4, 81669 München
GEO:48.12388000000000000000;11.59246700000000000000
SUMMARY:LLSW Fr.: TSV München-Ost - FC Langweid
CLASS:PUBLIC
DTSTART:20220305T120000Z
DTSTAMP:20220331T094200Z
END:VEVENT
END:VCALENDAR