BEGIN:VCALENDAR
VERSION:2.0
PRODID:VSD-Portal-www.volley.de
METHOD:PUBLISH
BEGIN:VEVENT
UID:279366-0b1cb5f82de24c98f11e829bddb1f0f9
X-WR-RELCALID:279366-0b1cb5f82de24c98f11e829bddb1f0f9
ORGANIZER:Volleyball
SEQUENCE:261141358
SUMMARY:U14 KL 1 m: VfB Hallbergmoos - SV Stammham II - a.K.
CLASS:PUBLIC
DTSTART:20211128T100000Z
DTSTAMP:20211003T083300Z
END:VEVENT
END:VCALENDAR