BEGIN:VCALENDAR
VERSION:2.0
PRODID:VSD-Portal-www.volley.de
METHOD:PUBLISH
BEGIN:VEVENT
UID:189957-2da69939ed67427dc6bf3daba21059e9
X-WR-RELCALID:189957-2da69939ed67427dc6bf3daba21059e9
ORGANIZER:Volleyball
SEQUENCE:261152015
SUMMARY:BKl Bra. Nord Mä.: TSV Eintracht Wulften - TSV Groß Schneen
CLASS:PUBLIC
DTSTART;VALUE=DATE:20040110
DTSTAMP:20140607T181800Z
DTEND;VALUE=DATE:20040111
END:VEVENT
END:VCALENDAR