BEGIN:VCALENDAR
VERSION:2.0
PRODID:VSD-Portal-www.volley.de
METHOD:PUBLISH
BEGIN:VEVENT
UID:192602-2da69939ed67427dc6bf3daba21059e9
X-WR-RELCALID:192602-2da69939ed67427dc6bf3daba21059e9
ORGANIZER:Volleyball
SEQUENCE:261120507
SUMMARY:VL 4 Fr.: TuSpo Weende II - MTV Wolfenbüttel
CLASS:PUBLIC
DTSTART;VALUE=DATE:20080927
DTSTAMP:20140607T181800Z
DTEND;VALUE=DATE:20080928
END:VEVENT
BEGIN:VEVENT
UID:192601-2da69939ed67427dc6bf3daba21059e9
X-WR-RELCALID:192601-2da69939ed67427dc6bf3daba21059e9
ORGANIZER:Volleyball
SEQUENCE:261120507
SUMMARY:VL 4 Fr.: MTV Wolfenbüttel - GfL Hannover II
CLASS:PUBLIC
DTSTART;VALUE=DATE:20081005
DTSTAMP:20140607T181800Z
DTEND;VALUE=DATE:20081006
END:VEVENT
BEGIN:VEVENT
UID:192592-2da69939ed67427dc6bf3daba21059e9
X-WR-RELCALID:192592-2da69939ed67427dc6bf3daba21059e9
ORGANIZER:Volleyball
SEQUENCE:261120507
SUMMARY:VL 4 Fr.: MTV Wolfenbüttel - SV Groß Ellershausen
CLASS:PUBLIC
DTSTART;VALUE=DATE:20081005
DTSTAMP:20140607T181800Z
DTEND;VALUE=DATE:20081006
END:VEVENT
BEGIN:VEVENT
UID:192591-2da69939ed67427dc6bf3daba21059e9
X-WR-RELCALID:192591-2da69939ed67427dc6bf3daba21059e9
ORGANIZER:Volleyball
SEQUENCE:261120507
SUMMARY:VL 4 Fr.: MTV Gifhorn - MTV Wolfenbüttel
CLASS:PUBLIC
DTSTART;VALUE=DATE:20081011
DTSTAMP:20140607T181800Z
DTEND;VALUE=DATE:20081012
END:VEVENT
BEGIN:VEVENT
UID:192579-2da69939ed67427dc6bf3daba21059e9
X-WR-RELCALID:192579-2da69939ed67427dc6bf3daba21059e9
ORGANIZER:Volleyball
SEQUENCE:261120507
SUMMARY:VL 4 Fr.: MTV Wolfenbüttel - MTV Goslar
CLASS:PUBLIC
DTSTART;VALUE=DATE:20081101
DTSTAMP:20140607T181800Z
DTEND;VALUE=DATE:20081102
END:VEVENT
BEGIN:VEVENT
UID:192580-2da69939ed67427dc6bf3daba21059e9
X-WR-RELCALID:192580-2da69939ed67427dc6bf3daba21059e9
ORGANIZER:Volleyball
SEQUENCE:261120507
SUMMARY:VL 4 Fr.: MTV Wolfenbüttel - TSV Bodenstedt
CLASS:PUBLIC
DTSTART;VALUE=DATE:20081101
DTSTAMP:20140607T181800Z
DTEND;VALUE=DATE:20081102
END:VEVENT
BEGIN:VEVENT
UID:192576-2da69939ed67427dc6bf3daba21059e9
X-WR-RELCALID:192576-2da69939ed67427dc6bf3daba21059e9
ORGANIZER:Volleyball
SEQUENCE:261120507
SUMMARY:VL 4 Fr.: MTV Salzdahlum - MTV Wolfenbüttel
CLASS:PUBLIC
DTSTART;VALUE=DATE:20081108
DTSTAMP:20140607T181800Z
DTEND;VALUE=DATE:20081109
END:VEVENT
BEGIN:VEVENT
UID:192574-2da69939ed67427dc6bf3daba21059e9
X-WR-RELCALID:192574-2da69939ed67427dc6bf3daba21059e9
ORGANIZER:Volleyball
SEQUENCE:261120507
SUMMARY:VL 4 Fr.: MTV Grone - MTV Wolfenbüttel
CLASS:PUBLIC
DTSTART;VALUE=DATE:20081115
DTSTAMP:20140607T181800Z
DTEND;VALUE=DATE:20081116
END:VEVENT
BEGIN:VEVENT
UID:192565-2da69939ed67427dc6bf3daba21059e9
X-WR-RELCALID:192565-2da69939ed67427dc6bf3daba21059e9
ORGANIZER:Volleyball
SEQUENCE:261120507
SUMMARY:VL 4 Fr.: TuSpo Weende II - MTV Wolfenbüttel
CLASS:PUBLIC
DTSTART;VALUE=DATE:20081129
DTSTAMP:20140607T181800Z
DTEND;VALUE=DATE:20081130
END:VEVENT
BEGIN:VEVENT
UID:192564-2da69939ed67427dc6bf3daba21059e9
X-WR-RELCALID:192564-2da69939ed67427dc6bf3daba21059e9
ORGANIZER:Volleyball
SEQUENCE:261120507
SUMMARY:VL 4 Fr.: MTV 48 Hildesheim - MTV Wolfenbüttel
CLASS:PUBLIC
DTSTART;VALUE=DATE:20081206
DTSTAMP:20140607T181800Z
DTEND;VALUE=DATE:20081207
END:VEVENT
BEGIN:VEVENT
UID:192559-2da69939ed67427dc6bf3daba21059e9
X-WR-RELCALID:192559-2da69939ed67427dc6bf3daba21059e9
ORGANIZER:Volleyball
SEQUENCE:261120507
SUMMARY:VL 4 Fr.: MTV Wolfenbüttel - SV Groß Ellershausen
CLASS:PUBLIC
DTSTART;VALUE=DATE:20081213
DTSTAMP:20140607T181800Z
DTEND;VALUE=DATE:20081214
END:VEVENT
BEGIN:VEVENT
UID:192560-2da69939ed67427dc6bf3daba21059e9
X-WR-RELCALID:192560-2da69939ed67427dc6bf3daba21059e9
ORGANIZER:Volleyball
SEQUENCE:261120507
SUMMARY:VL 4 Fr.: MTV Wolfenbüttel - MTV 48 Hildesheim
CLASS:PUBLIC
DTSTART;VALUE=DATE:20081213
DTSTAMP:20140607T181800Z
DTEND;VALUE=DATE:20081214
END:VEVENT
BEGIN:VEVENT
UID:192545-2da69939ed67427dc6bf3daba21059e9
X-WR-RELCALID:192545-2da69939ed67427dc6bf3daba21059e9
ORGANIZER:Volleyball
SEQUENCE:261120507
SUMMARY:VL 4 Fr.: TSV Bodenstedt - MTV Wolfenbüttel
CLASS:PUBLIC
DTSTART;VALUE=DATE:20090124
DTSTAMP:20140607T181800Z
DTEND;VALUE=DATE:20090125
END:VEVENT
BEGIN:VEVENT
UID:192537-2da69939ed67427dc6bf3daba21059e9
X-WR-RELCALID:192537-2da69939ed67427dc6bf3daba21059e9
ORGANIZER:Volleyball
SEQUENCE:261120507
SUMMARY:VL 4 Fr.: GfL Hannover II - MTV Wolfenbüttel
CLASS:PUBLIC
DTSTART;VALUE=DATE:20090208
DTSTAMP:20140607T181800Z
DTEND;VALUE=DATE:20090209
END:VEVENT
BEGIN:VEVENT
UID:192536-2da69939ed67427dc6bf3daba21059e9
X-WR-RELCALID:192536-2da69939ed67427dc6bf3daba21059e9
ORGANIZER:Volleyball
SEQUENCE:261120507
SUMMARY:VL 4 Fr.: MTV Wolfenbüttel - MTV Grone
CLASS:PUBLIC
DTSTART;VALUE=DATE:20090221
DTSTAMP:20140607T181800Z
DTEND;VALUE=DATE:20090222
END:VEVENT
BEGIN:VEVENT
UID:192535-2da69939ed67427dc6bf3daba21059e9
X-WR-RELCALID:192535-2da69939ed67427dc6bf3daba21059e9
ORGANIZER:Volleyball
SEQUENCE:261120507
SUMMARY:VL 4 Fr.: MTV Wolfenbüttel - MTV Salzdahlum
CLASS:PUBLIC
DTSTART;VALUE=DATE:20090221
DTSTAMP:20140607T181800Z
DTEND;VALUE=DATE:20090222
END:VEVENT
BEGIN:VEVENT
UID:192527-2da69939ed67427dc6bf3daba21059e9
X-WR-RELCALID:192527-2da69939ed67427dc6bf3daba21059e9
ORGANIZER:Volleyball
SEQUENCE:261120507
SUMMARY:VL 4 Fr.: MTV Goslar - MTV Wolfenbüttel
CLASS:PUBLIC
DTSTART;VALUE=DATE:20090307
DTSTAMP:20140607T181800Z
DTEND;VALUE=DATE:20090308
END:VEVENT
BEGIN:VEVENT
UID:192521-2da69939ed67427dc6bf3daba21059e9
X-WR-RELCALID:192521-2da69939ed67427dc6bf3daba21059e9
ORGANIZER:Volleyball
SEQUENCE:261120507
SUMMARY:VL 4 Fr.: MTV Gifhorn - MTV Wolfenbüttel
CLASS:PUBLIC
DTSTART;VALUE=DATE:20090321
DTSTAMP:20140607T181800Z
DTEND;VALUE=DATE:20090322
END:VEVENT
END:VCALENDAR