BEGIN:VCALENDAR
VERSION:2.0
PRODID:VSD-Portal-www.volley.de
METHOD:PUBLISH
BEGIN:VEVENT
UID:299794-0b1cb5f82de24c98f11e829bddb1f0f9
X-WR-RELCALID:299794-0b1cb5f82de24c98f11e829bddb1f0f9
ORGANIZER:Volleyball
SEQUENCE:261101840
LOCATION:Sportarena, Am Utzweg 1, 82008 Unterhaching
GEO:48.06089000000000000000;11.61474300000000000000
SUMMARY:BKL3 Fr.: TSV Unterhaching III - TSV München-Ost II
CLASS:PUBLIC
DTSTART:20221015T110000Z
DTSTAMP:20221015T123100Z
END:VEVENT
BEGIN:VEVENT
UID:299889-0b1cb5f82de24c98f11e829bddb1f0f9
X-WR-RELCALID:299889-0b1cb5f82de24c98f11e829bddb1f0f9
ORGANIZER:Volleyball
SEQUENCE:261101840
LOCATION:Sportarena, Am Utzweg 1, 82008 Unterhaching
GEO:48.06089000000000000000;11.61474300000000000000
SUMMARY:BKL3 Fr.: TSV Unterhaching III - SV Lohhof IV
CLASS:PUBLIC
DTSTART:20230225T120000Z
DTSTAMP:20230225T131700Z
END:VEVENT
BEGIN:VEVENT
UID:299890-0b1cb5f82de24c98f11e829bddb1f0f9
X-WR-RELCALID:299890-0b1cb5f82de24c98f11e829bddb1f0f9
ORGANIZER:Volleyball
SEQUENCE:261101840
LOCATION:Sportarena, Am Utzweg 1, 82008 Unterhaching
GEO:48.06089000000000000000;11.61474300000000000000
SUMMARY:BKL3 Fr.: TSV Unterhaching III - TV Lenggries
CLASS:PUBLIC
DTSTART:20230225T120000Z
DTSTAMP:20230225T152000Z
END:VEVENT
BEGIN:VEVENT
UID:299867-0b1cb5f82de24c98f11e829bddb1f0f9
X-WR-RELCALID:299867-0b1cb5f82de24c98f11e829bddb1f0f9
ORGANIZER:Volleyball
SEQUENCE:261101840
SUMMARY:BKL3 Fr.: TSV Unterhaching III - Putzbrunner SV
CLASS:PUBLIC
DTSTART:20230308T120000Z
DTSTAMP:20230312T130000Z
END:VEVENT
END:VCALENDAR