BEGIN:VCALENDAR
VERSION:2.0
PRODID:VSD-Portal-www.volley.de
METHOD:PUBLISH
BEGIN:VEVENT
UID:293000-0b1cb5f82de24c98f11e829bddb1f0f9
X-WR-RELCALID:293000-0b1cb5f82de24c98f11e829bddb1f0f9
ORGANIZER:Volleyball
SEQUENCE:261151619
LOCATION:Schulturnhalle, Moosstr. 46, 85356 Freising
GEO:48.39261200000000000000;11.76468300000000000000
SUMMARY:BZLO Mä.: SVN München - SC Freising II
CLASS:PUBLIC
DTSTART:20221022T090000Z
DTSTAMP:20221022T120500Z
END:VEVENT
BEGIN:VEVENT
UID:293001-0b1cb5f82de24c98f11e829bddb1f0f9
X-WR-RELCALID:293001-0b1cb5f82de24c98f11e829bddb1f0f9
ORGANIZER:Volleyball
SEQUENCE:261151619
LOCATION:Schulturnhalle, Moosstr. 46, 85356 Freising
GEO:48.39261200000000000000;11.76468300000000000000
SUMMARY:BZLO Mä.: TS Jahn München - SC Freising II
CLASS:PUBLIC
DTSTART:20221022T090000Z
DTSTAMP:20221022T134200Z
END:VEVENT
BEGIN:VEVENT
UID:292880-0b1cb5f82de24c98f11e829bddb1f0f9
X-WR-RELCALID:292880-0b1cb5f82de24c98f11e829bddb1f0f9
ORGANIZER:Volleyball
SEQUENCE:261151619
LOCATION:Dreifachhalle, Hauptstraße 60, 85445 Oberding
GEO:null;null
SUMMARY:BZLO Mä.: TUS Oberding - SC Freising II
CLASS:PUBLIC
DTSTART:20221112T120000Z
DTSTAMP:20221112T140700Z
END:VEVENT
BEGIN:VEVENT
UID:292882-0b1cb5f82de24c98f11e829bddb1f0f9
X-WR-RELCALID:292882-0b1cb5f82de24c98f11e829bddb1f0f9
ORGANIZER:Volleyball
SEQUENCE:261151619
LOCATION:Dreifachhalle, Hauptstraße 60, 85445 Oberding
GEO:null;null
SUMMARY:BZLO Mä.: SC Freising II - TSV Waldtrudering
CLASS:PUBLIC
DTSTART:20221112T120000Z
DTSTAMP:20221112T191300Z
END:VEVENT
BEGIN:VEVENT
UID:292890-0b1cb5f82de24c98f11e829bddb1f0f9
X-WR-RELCALID:292890-0b1cb5f82de24c98f11e829bddb1f0f9
ORGANIZER:Volleyball
SEQUENCE:261151619
LOCATION:Dreifachhalle (am Hallenbad), Franz-Alexander-Str.8, 84489 Bu
 rghausen
GEO:48.17725961058495400000;12.83780218258664300000
SUMMARY:BZLO Mä.: SV W.-Burghausen - SC Freising II
CLASS:PUBLIC
DTSTART:20221126T120000Z
DTSTAMP:20221126T154200Z
END:VEVENT
BEGIN:VEVENT
UID:292891-0b1cb5f82de24c98f11e829bddb1f0f9
X-WR-RELCALID:292891-0b1cb5f82de24c98f11e829bddb1f0f9
ORGANIZER:Volleyball
SEQUENCE:261151619
LOCATION:Dreifachhalle (am Hallenbad), Franz-Alexander-Str.8, 84489 Bu
 rghausen
GEO:48.17725961058495400000;12.83780218258664300000
SUMMARY:BZLO Mä.: TSV Hohenb.-Riemerling - SC Freising II
CLASS:PUBLIC
DTSTART:20221126T120000Z
DTSTAMP:20221126T173300Z
END:VEVENT
BEGIN:VEVENT
UID:292850-0b1cb5f82de24c98f11e829bddb1f0f9
X-WR-RELCALID:292850-0b1cb5f82de24c98f11e829bddb1f0f9
ORGANIZER:Volleyball
SEQUENCE:261151619
LOCATION:Schulturnhalle, Moosstr. 46, 85356 Freising
GEO:48.39261200000000000000;11.76468300000000000000
SUMMARY:BZLO Mä.: SC Freising II - TSV Waging am See
CLASS:PUBLIC
DTSTART:20221203T120000Z
DTSTAMP:20221203T132600Z
END:VEVENT
BEGIN:VEVENT
UID:292851-0b1cb5f82de24c98f11e829bddb1f0f9
X-WR-RELCALID:292851-0b1cb5f82de24c98f11e829bddb1f0f9
ORGANIZER:Volleyball
SEQUENCE:261151619
LOCATION:Schulturnhalle, Moosstr. 46, 85356 Freising
GEO:48.39261200000000000000;11.76468300000000000000
SUMMARY:BZLO Mä.: SC Freising II - SV W.-Burghausen
CLASS:PUBLIC
DTSTART:20221203T120000Z
DTSTAMP:20221203T161900Z
END:VEVENT
BEGIN:VEVENT
UID:292892-0b1cb5f82de24c98f11e829bddb1f0f9
X-WR-RELCALID:292892-0b1cb5f82de24c98f11e829bddb1f0f9
ORGANIZER:Volleyball
SEQUENCE:261151619
LOCATION:Sporthalle Putzbrunn, Hohenbrunner Str. 3, 85640 Putzbrunn
GEO:48.07357879293046000000;11.71586559524530400000
SUMMARY:BZLO Mä.: Putzbrunner SV - SC Freising II
CLASS:PUBLIC
DTSTART:20230117T120000Z
DTSTAMP:20230117T202200Z
END:VEVENT
BEGIN:VEVENT
UID:292894-0b1cb5f82de24c98f11e829bddb1f0f9
X-WR-RELCALID:292894-0b1cb5f82de24c98f11e829bddb1f0f9
ORGANIZER:Volleyball
SEQUENCE:261151619
LOCATION:Sporthalle Putzbrunn, Hohenbrunner Str. 3, 85640 Putzbrunn
GEO:48.07357879293046000000;11.71586559524530400000
SUMMARY:BZLO Mä.: SC Freising II - TS Jahn München
CLASS:PUBLIC
DTSTART:20230123T120000Z
DTSTAMP:20230123T212900Z
END:VEVENT
BEGIN:VEVENT
UID:292908-0b1cb5f82de24c98f11e829bddb1f0f9
X-WR-RELCALID:292908-0b1cb5f82de24c98f11e829bddb1f0f9
ORGANIZER:Volleyball
SEQUENCE:261151619
SUMMARY:BZLO Mä.: MTV Rosenheim II - SC Freising II
CLASS:PUBLIC
DTSTART:20230128T120000Z
DTSTAMP:20230128T162400Z
END:VEVENT
BEGIN:VEVENT
UID:292909-0b1cb5f82de24c98f11e829bddb1f0f9
X-WR-RELCALID:292909-0b1cb5f82de24c98f11e829bddb1f0f9
ORGANIZER:Volleyball
SEQUENCE:261151619
SUMMARY:BZLO Mä.: SVN München - SC Freising II
CLASS:PUBLIC
DTSTART:20230128T120000Z
DTSTAMP:20230128T185600Z
END:VEVENT
BEGIN:VEVENT
UID:292934-0b1cb5f82de24c98f11e829bddb1f0f9
X-WR-RELCALID:292934-0b1cb5f82de24c98f11e829bddb1f0f9
ORGANIZER:Volleyball
SEQUENCE:261151619
LOCATION:Bergader Arena, Mühlberger Weg 5, 83329 Waging am See
GEO:null;null
SUMMARY:BZLO Mä.: TSV Waging am See - SC Freising II
CLASS:PUBLIC
DTSTART:20230304T120000Z
DTSTAMP:20230304T140100Z
END:VEVENT
BEGIN:VEVENT
UID:292936-0b1cb5f82de24c98f11e829bddb1f0f9
X-WR-RELCALID:292936-0b1cb5f82de24c98f11e829bddb1f0f9
ORGANIZER:Volleyball
SEQUENCE:261151619
LOCATION:Bergader Arena, Mühlberger Weg 5, 83329 Waging am See
GEO:null;null
SUMMARY:BZLO Mä.: SC Freising II - MTV Rosenheim II
CLASS:PUBLIC
DTSTART:20230304T120000Z
DTSTAMP:20230304T184300Z
END:VEVENT
BEGIN:VEVENT
UID:292922-0b1cb5f82de24c98f11e829bddb1f0f9
X-WR-RELCALID:292922-0b1cb5f82de24c98f11e829bddb1f0f9
ORGANIZER:Volleyball
SEQUENCE:261151619
LOCATION:Schulturnhalle, Moosstr. 46, 85356 Freising
GEO:48.39261200000000000000;11.76468300000000000000
SUMMARY:BZLO Mä.: SC Freising II - Putzbrunner SV
CLASS:PUBLIC
DTSTART:20230311T120000Z
DTSTAMP:20230311T131000Z
END:VEVENT
BEGIN:VEVENT
UID:292923-0b1cb5f82de24c98f11e829bddb1f0f9
X-WR-RELCALID:292923-0b1cb5f82de24c98f11e829bddb1f0f9
ORGANIZER:Volleyball
SEQUENCE:261151619
LOCATION:Schulturnhalle, Moosstr. 46, 85356 Freising
GEO:48.39261200000000000000;11.76468300000000000000
SUMMARY:BZLO Mä.: SC Freising II - TUS Oberding
CLASS:PUBLIC
DTSTART:20230311T120000Z
DTSTAMP:20230311T145800Z
END:VEVENT
BEGIN:VEVENT
UID:292916-0b1cb5f82de24c98f11e829bddb1f0f9
X-WR-RELCALID:292916-0b1cb5f82de24c98f11e829bddb1f0f9
ORGANIZER:Volleyball
SEQUENCE:261151619
LOCATION:Schulturnhalle, Moosstr. 46, 85356 Freising
GEO:48.39261200000000000000;11.76468300000000000000
SUMMARY:BZLO Mä.: SC Freising II - TSV Hohenb.-Riemerling
CLASS:PUBLIC
DTSTART:20230318T120000Z
DTSTAMP:20230318T140300Z
END:VEVENT
BEGIN:VEVENT
UID:292917-0b1cb5f82de24c98f11e829bddb1f0f9
X-WR-RELCALID:292917-0b1cb5f82de24c98f11e829bddb1f0f9
ORGANIZER:Volleyball
SEQUENCE:261151619
LOCATION:Schulturnhalle, Moosstr. 46, 85356 Freising
GEO:48.39261200000000000000;11.76468300000000000000
SUMMARY:BZLO Mä.: SC Freising II - TSV Waldtrudering
CLASS:PUBLIC
DTSTART:20230318T120000Z
DTSTAMP:20230318T155800Z
END:VEVENT
END:VCALENDAR