BEGIN:VCALENDAR
VERSION:2.0
PRODID:VSD-Portal-www.volley.de
METHOD:PUBLISH
BEGIN:VEVENT
UID:293549-0b1cb5f82de24c98f11e829bddb1f0f9
X-WR-RELCALID:293549-0b1cb5f82de24c98f11e829bddb1f0f9
ORGANIZER:Volleyball
SEQUENCE:261091718
LOCATION:Sporthalle der FOS/BOS, Südliche Ingolstädter Str. 1, 85716 U
 nterschleißheim
GEO:48.28839000000000000000;11.58330000000000000000
SUMMARY:KKL2 Fr.: SV Lohhof V - TUS Oberding
CLASS:PUBLIC
DTSTART:20221008T100000Z
DTSTAMP:20221008T113100Z
END:VEVENT
BEGIN:VEVENT
UID:293550-0b1cb5f82de24c98f11e829bddb1f0f9
X-WR-RELCALID:293550-0b1cb5f82de24c98f11e829bddb1f0f9
ORGANIZER:Volleyball
SEQUENCE:261091718
LOCATION:Sporthalle der FOS/BOS, Südliche Ingolstädter Str. 1, 85716 U
 nterschleißheim
GEO:48.28839000000000000000;11.58330000000000000000
SUMMARY:KKL2 Fr.: SV Lohhof V - TSV Grafing II
CLASS:PUBLIC
DTSTART:20221008T100000Z
DTSTAMP:20221008T131500Z
END:VEVENT
BEGIN:VEVENT
UID:293570-0b1cb5f82de24c98f11e829bddb1f0f9
X-WR-RELCALID:293570-0b1cb5f82de24c98f11e829bddb1f0f9
ORGANIZER:Volleyball
SEQUENCE:261091718
LOCATION:Sporthalle der FOS/BOS, Südliche Ingolstädter Str. 1, 85716 U
 nterschleißheim
GEO:48.28839000000000000000;11.58330000000000000000
SUMMARY:KKL2 Fr.: TSV Isen 1909 - SV Lohhof V
CLASS:PUBLIC
DTSTART:20230311T110000Z
DTSTAMP:20230311T120700Z
END:VEVENT
BEGIN:VEVENT
UID:293573-0b1cb5f82de24c98f11e829bddb1f0f9
X-WR-RELCALID:293573-0b1cb5f82de24c98f11e829bddb1f0f9
ORGANIZER:Volleyball
SEQUENCE:261091718
LOCATION:Sporthalle der FOS/BOS, Südliche Ingolstädter Str. 1, 85716 U
 nterschleißheim
GEO:48.28839000000000000000;11.58330000000000000000
SUMMARY:KKL2 Fr.: SV Lohhof VI - SV Lohhof V
CLASS:PUBLIC
DTSTART:20230311T110000Z
DTSTAMP:20230311T171300Z
END:VEVENT
END:VCALENDAR