BEGIN:VCALENDAR
VERSION:2.0
PRODID:VSD-Portal-www.volley.de
METHOD:PUBLISH
BEGIN:VEVENT
UID:301771-0b1cb5f82de24c98f11e829bddb1f0f9
X-WR-RELCALID:301771-0b1cb5f82de24c98f11e829bddb1f0f9
ORGANIZER:Volleyball
SEQUENCE:261111023
LOCATION:Allgäu Sporthalle, Schillerstraße 11, 87527 Sonthofen
GEO:47.51538738560943000000;10.27877416931153200000
SUMMARY:SBM U16 w: TV Lenggries - TSV Sonthofen
CLASS:PUBLIC
DTSTART:20230304T090000Z
DTSTAMP:20230304T094100Z
END:VEVENT
BEGIN:VEVENT
UID:301772-0b1cb5f82de24c98f11e829bddb1f0f9
X-WR-RELCALID:301772-0b1cb5f82de24c98f11e829bddb1f0f9
ORGANIZER:Volleyball
SEQUENCE:261111023
LOCATION:Allgäu Sporthalle, Schillerstraße 11, 87527 Sonthofen
GEO:47.51538738560943000000;10.27877416931153200000
SUMMARY:SBM U16 w: TV Lenggries - FTSV Straubing
CLASS:PUBLIC
DTSTART:20230304T113000Z
DTSTAMP:20230304T121800Z
END:VEVENT
END:VCALENDAR