BEGIN:VCALENDAR
VERSION:2.0
PRODID:VSD-Portal-www.volley.de
METHOD:PUBLISH
BEGIN:VEVENT
UID:301784-0b1cb5f82de24c98f11e829bddb1f0f9
X-WR-RELCALID:301784-0b1cb5f82de24c98f11e829bddb1f0f9
ORGANIZER:Volleyball
SEQUENCE:261121124
LOCATION:Allgäu Sporthalle, Schillerstraße 11, 87527 Sonthofen
GEO:47.51538738560943000000;10.27877416931153200000
SUMMARY:SBM U16 w: ASV Dachau - TV Lenggries
CLASS:PUBLIC
DTSTART:20230304T160000Z
DTSTAMP:20230304T165600Z
END:VEVENT
END:VCALENDAR