BEGIN:VCALENDAR
VERSION:2.0
PRODID:VSD-Portal-www.volley.de
METHOD:PUBLISH
BEGIN:VEVENT
UID:302175-0b1cb5f82de24c98f11e829bddb1f0f9
X-WR-RELCALID:302175-0b1cb5f82de24c98f11e829bddb1f0f9
ORGANIZER:Volleyball
SEQUENCE:261140305
LOCATION:Heribert-Wilhelm-Sporthalle, Hindelanger Straße 22, 87527 Son
 thofen
GEO:47.51220405434327000000;10.28798081481932000000
SUMMARY:SBM U12 w: SV Lohhof - TSV Unterhaching
CLASS:PUBLIC
DTSTART;VALUE=DATE:20230121
DTSTAMP:20230121T100800Z
DTEND;VALUE=DATE:20230122
END:VEVENT
BEGIN:VEVENT
UID:302176-0b1cb5f82de24c98f11e829bddb1f0f9
X-WR-RELCALID:302176-0b1cb5f82de24c98f11e829bddb1f0f9
ORGANIZER:Volleyball
SEQUENCE:261140305
LOCATION:Heribert-Wilhelm-Sporthalle, Hindelanger Straße 22, 87527 Son
 thofen
GEO:47.51220405434327000000;10.28798081481932000000
SUMMARY:SBM U12 w: FTSV Straubing II - SV Mauerstetten
CLASS:PUBLIC
DTSTART;VALUE=DATE:20230121
DTSTAMP:20230121T112400Z
DTEND;VALUE=DATE:20230122
END:VEVENT
BEGIN:VEVENT
UID:302177-0b1cb5f82de24c98f11e829bddb1f0f9
X-WR-RELCALID:302177-0b1cb5f82de24c98f11e829bddb1f0f9
ORGANIZER:Volleyball
SEQUENCE:261140305
LOCATION:Heribert-Wilhelm-Sporthalle, Hindelanger Straße 22, 87527 Son
 thofen
GEO:47.51220405434327000000;10.28798081481932000000
SUMMARY:SBM U12 w: SV Lohhof - SV Mauerstetten
CLASS:PUBLIC
DTSTART;VALUE=DATE:20230121
DTSTAMP:20230121T122300Z
DTEND;VALUE=DATE:20230122
END:VEVENT
BEGIN:VEVENT
UID:302178-0b1cb5f82de24c98f11e829bddb1f0f9
X-WR-RELCALID:302178-0b1cb5f82de24c98f11e829bddb1f0f9
ORGANIZER:Volleyball
SEQUENCE:261140305
LOCATION:Heribert-Wilhelm-Sporthalle, Hindelanger Straße 22, 87527 Son
 thofen
GEO:47.51220405434327000000;10.28798081481932000000
SUMMARY:SBM U12 w: FTSV Straubing II - TSV Unterhaching
CLASS:PUBLIC
DTSTART;VALUE=DATE:20230121
DTSTAMP:20230121T132700Z
DTEND;VALUE=DATE:20230122
END:VEVENT
BEGIN:VEVENT
UID:302179-0b1cb5f82de24c98f11e829bddb1f0f9
X-WR-RELCALID:302179-0b1cb5f82de24c98f11e829bddb1f0f9
ORGANIZER:Volleyball
SEQUENCE:261140305
LOCATION:Heribert-Wilhelm-Sporthalle, Hindelanger Straße 22, 87527 Son
 thofen
GEO:47.51220405434327000000;10.28798081481932000000
SUMMARY:SBM U12 w: TSV Unterhaching - SV Mauerstetten
CLASS:PUBLIC
DTSTART;VALUE=DATE:20230121
DTSTAMP:20230121T144300Z
DTEND;VALUE=DATE:20230122
END:VEVENT
BEGIN:VEVENT
UID:302180-0b1cb5f82de24c98f11e829bddb1f0f9
X-WR-RELCALID:302180-0b1cb5f82de24c98f11e829bddb1f0f9
ORGANIZER:Volleyball
SEQUENCE:261140305
LOCATION:Heribert-Wilhelm-Sporthalle, Hindelanger Straße 22, 87527 Son
 thofen
GEO:47.51220405434327000000;10.28798081481932000000
SUMMARY:SBM U12 w: SV Lohhof - FTSV Straubing II
CLASS:PUBLIC
DTSTART;VALUE=DATE:20230121
DTSTAMP:20230121T153600Z
DTEND;VALUE=DATE:20230122
END:VEVENT
END:VCALENDAR