BEGIN:VCALENDAR
VERSION:2.0
PRODID:VSD-Portal-www.volley.de
METHOD:PUBLISH
BEGIN:VEVENT
UID:302188-0b1cb5f82de24c98f11e829bddb1f0f9
X-WR-RELCALID:302188-0b1cb5f82de24c98f11e829bddb1f0f9
ORGANIZER:Volleyball
SEQUENCE:261141419
LOCATION:Heribert-Wilhelm-Sporthalle, Hindelanger Straße 22, 87527 Son
 thofen
GEO:47.51220405434327000000;10.28798081481932000000
SUMMARY:SBM U12 w: Lechrain Volleys - TSV Bad Endorf
CLASS:PUBLIC
DTSTART;VALUE=DATE:20230122
DTSTAMP:20230122T095600Z
DTEND;VALUE=DATE:20230123
END:VEVENT
END:VCALENDAR