BEGIN:VCALENDAR
VERSION:2.0
PRODID:VSD-Portal-www.volley.de
METHOD:PUBLISH
BEGIN:VEVENT
UID:302518-0b1cb5f82de24c98f11e829bddb1f0f9
X-WR-RELCALID:302518-0b1cb5f82de24c98f11e829bddb1f0f9
ORGANIZER:Volleyball
SEQUENCE:261100552
LOCATION:Untermainhalle, Dammsfeld 11, 63820 Elsenfeld
GEO:49.83474300000000000000;9.16071600000000000000
SUMMARY:BM U12 w: TS Jahn München - FTSV Straubing II
CLASS:PUBLIC
DTSTART;VALUE=DATE:20230205
DTSTAMP:20230205T154300Z
DTEND;VALUE=DATE:20230206
END:VEVENT
END:VCALENDAR