BEGIN:VCALENDAR
VERSION:2.0
PRODID:VSD-Portal-www.volley.de
METHOD:PUBLISH
BEGIN:VEVENT
UID:302465-0b1cb5f82de24c98f11e829bddb1f0f9
X-WR-RELCALID:302465-0b1cb5f82de24c98f11e829bddb1f0f9
ORGANIZER:Volleyball
SEQUENCE:261110137
LOCATION:Berufschulhalle, Heinrich-Neumaier-Platz 1, 85221 Dachau
GEO:48.25167500000000000000;11.45301900000000000000
SUMMARY:BM U12 m: TSV Mühldorf II - SV Schwaig
CLASS:PUBLIC
DTSTART;VALUE=DATE:20230205
DTSTAMP:20230205T141400Z
DTEND;VALUE=DATE:20230206
END:VEVENT
END:VCALENDAR