BEGIN:VCALENDAR
VERSION:2.0
PRODID:VSD-Portal-www.volley.de
METHOD:PUBLISH
BEGIN:VEVENT
UID:301556-0b1cb5f82de24c98f11e829bddb1f0f9
X-WR-RELCALID:301556-0b1cb5f82de24c98f11e829bddb1f0f9
ORGANIZER:Volleyball
SEQUENCE:261141754
LOCATION:Schönwerth-Realschule, Fuggerstraße 15, 92224 Amberg
GEO:49.44283680747453500000;11.83257197287751700000
SUMMARY:NBM U15 m: TSV Zirndorf - TV Bad Windsheim
CLASS:PUBLIC
DTSTART;VALUE=DATE:20230506
DTSTAMP:20230506T143400Z
DTEND;VALUE=DATE:20230507
END:VEVENT
END:VCALENDAR