BEGIN:VCALENDAR
VERSION:2.0
PRODID:VSD-Portal-www.volley.de
METHOD:PUBLISH
BEGIN:VEVENT
UID:88281-0b1cb5f82de24c98f11e829bddb1f0f9
X-WR-RELCALID:88281-0b1cb5f82de24c98f11e829bddb1f0f9
ORGANIZER:Volleyball
SEQUENCE:261111812
SUMMARY:ByL N Mä.: TSV Eibelstadt - VC/TuS Hirschau
CLASS:PUBLIC
DTSTART:20111009T130000Z
DTSTAMP:20140607T192100Z
END:VEVENT
BEGIN:VEVENT
UID:88274-0b1cb5f82de24c98f11e829bddb1f0f9
X-WR-RELCALID:88274-0b1cb5f82de24c98f11e829bddb1f0f9
ORGANIZER:Volleyball
SEQUENCE:261111812
SUMMARY:ByL N Mä.: VC/TuS Hirschau - BSV Bayreuth
CLASS:PUBLIC
DTSTART:20111023T130000Z
DTSTAMP:20140607T192100Z
END:VEVENT
BEGIN:VEVENT
UID:88211-0b1cb5f82de24c98f11e829bddb1f0f9
X-WR-RELCALID:88211-0b1cb5f82de24c98f11e829bddb1f0f9
ORGANIZER:Volleyball
SEQUENCE:261111812
SUMMARY:ByL N Mä.: TSV Stein - VC/TuS Hirschau
CLASS:PUBLIC
DTSTART:20111029T173000Z
DTSTAMP:20140607T192100Z
END:VEVENT
BEGIN:VEVENT
UID:88219-0b1cb5f82de24c98f11e829bddb1f0f9
X-WR-RELCALID:88219-0b1cb5f82de24c98f11e829bddb1f0f9
ORGANIZER:Volleyball
SEQUENCE:261111812
SUMMARY:ByL N Mä.: TV Mömlingen - VC/TuS Hirschau
CLASS:PUBLIC
DTSTART:20111112T190000Z
DTSTAMP:20140607T192100Z
END:VEVENT
BEGIN:VEVENT
UID:88222-0b1cb5f82de24c98f11e829bddb1f0f9
X-WR-RELCALID:88222-0b1cb5f82de24c98f11e829bddb1f0f9
ORGANIZER:Volleyball
SEQUENCE:261111812
SUMMARY:ByL N Mä.: VC/TuS Hirschau - SC Freising
CLASS:PUBLIC
DTSTART:20111113T140000Z
DTSTAMP:20140607T192100Z
END:VEVENT
BEGIN:VEVENT
UID:88224-0b1cb5f82de24c98f11e829bddb1f0f9
X-WR-RELCALID:88224-0b1cb5f82de24c98f11e829bddb1f0f9
ORGANIZER:Volleyball
SEQUENCE:261111812
SUMMARY:ByL N Mä.: TSV Zirndorf - VC/TuS Hirschau
CLASS:PUBLIC
DTSTART:20111120T140000Z
DTSTAMP:20140607T192100Z
END:VEVENT
BEGIN:VEVENT
UID:88212-0b1cb5f82de24c98f11e829bddb1f0f9
X-WR-RELCALID:88212-0b1cb5f82de24c98f11e829bddb1f0f9
ORGANIZER:Volleyball
SEQUENCE:261111812
SUMMARY:ByL N Mä.: TuSpo Nürnberg - VC/TuS Hirschau
CLASS:PUBLIC
DTSTART:20111203T190000Z
DTSTAMP:20140607T192100Z
END:VEVENT
BEGIN:VEVENT
UID:88235-0b1cb5f82de24c98f11e829bddb1f0f9
X-WR-RELCALID:88235-0b1cb5f82de24c98f11e829bddb1f0f9
ORGANIZER:Volleyball
SEQUENCE:261111812
SUMMARY:ByL N Mä.: VC/TuS Hirschau - TV/DJK Hammelburg
CLASS:PUBLIC
DTSTART:20111211T140000Z
DTSTAMP:20140607T192100Z
END:VEVENT
BEGIN:VEVENT
UID:88240-0b1cb5f82de24c98f11e829bddb1f0f9
X-WR-RELCALID:88240-0b1cb5f82de24c98f11e829bddb1f0f9
ORGANIZER:Volleyball
SEQUENCE:261111812
SUMMARY:ByL N Mä.: VC/TuS Hirschau - TSV Eibelstadt
CLASS:PUBLIC
DTSTART:20120115T140000Z
DTSTAMP:20140607T192100Z
END:VEVENT
BEGIN:VEVENT
UID:88246-0b1cb5f82de24c98f11e829bddb1f0f9
X-WR-RELCALID:88246-0b1cb5f82de24c98f11e829bddb1f0f9
ORGANIZER:Volleyball
SEQUENCE:261111812
SUMMARY:ByL N Mä.: BSV Bayreuth - VC/TuS Hirschau
CLASS:PUBLIC
DTSTART:20120128T183000Z
DTSTAMP:20140607T192100Z
END:VEVENT
BEGIN:VEVENT
UID:88250-0b1cb5f82de24c98f11e829bddb1f0f9
X-WR-RELCALID:88250-0b1cb5f82de24c98f11e829bddb1f0f9
ORGANIZER:Volleyball
SEQUENCE:261111812
SUMMARY:ByL N Mä.: VC/TuS Hirschau - TV Mömlingen
CLASS:PUBLIC
DTSTART:20120129T140000Z
DTSTAMP:20140607T192100Z
END:VEVENT
BEGIN:VEVENT
UID:88251-0b1cb5f82de24c98f11e829bddb1f0f9
X-WR-RELCALID:88251-0b1cb5f82de24c98f11e829bddb1f0f9
ORGANIZER:Volleyball
SEQUENCE:261111812
SUMMARY:ByL N Mä.: SC Freising - VC/TuS Hirschau
CLASS:PUBLIC
DTSTART:20120204T180000Z
DTSTAMP:20140607T192100Z
END:VEVENT
BEGIN:VEVENT
UID:88258-0b1cb5f82de24c98f11e829bddb1f0f9
X-WR-RELCALID:88258-0b1cb5f82de24c98f11e829bddb1f0f9
ORGANIZER:Volleyball
SEQUENCE:261111812
SUMMARY:ByL N Mä.: VC/TuS Hirschau - TSV Zirndorf
CLASS:PUBLIC
DTSTART:20120212T140000Z
DTSTAMP:20140607T192100Z
END:VEVENT
BEGIN:VEVENT
UID:88279-0b1cb5f82de24c98f11e829bddb1f0f9
X-WR-RELCALID:88279-0b1cb5f82de24c98f11e829bddb1f0f9
ORGANIZER:Volleyball
SEQUENCE:261111812
SUMMARY:ByL N Mä.: VC/TuS Hirschau - TuSpo Nürnberg
CLASS:PUBLIC
DTSTART:20120311T140000Z
DTSTAMP:20140607T192100Z
END:VEVENT
BEGIN:VEVENT
UID:88267-0b1cb5f82de24c98f11e829bddb1f0f9
X-WR-RELCALID:88267-0b1cb5f82de24c98f11e829bddb1f0f9
ORGANIZER:Volleyball
SEQUENCE:261111812
SUMMARY:ByL N Mä.: TV/DJK Hammelburg - VC/TuS Hirschau
CLASS:PUBLIC
DTSTART:20120317T183000Z
DTSTAMP:20140607T192100Z
END:VEVENT
BEGIN:VEVENT
UID:88273-0b1cb5f82de24c98f11e829bddb1f0f9
X-WR-RELCALID:88273-0b1cb5f82de24c98f11e829bddb1f0f9
ORGANIZER:Volleyball
SEQUENCE:261111812
SUMMARY:ByL N Mä.: VC/TuS Hirschau - TSV Stein
CLASS:PUBLIC
DTSTART:20120325T130000Z
DTSTAMP:20140607T192100Z
END:VEVENT
END:VCALENDAR