BEGIN:VCALENDAR
VERSION:2.0
PRODID:VSD-Portal-www.volley.de
METHOD:PUBLISH
BEGIN:VEVENT
UID:309598-0b1cb5f82de24c98f11e829bddb1f0f9
X-WR-RELCALID:309598-0b1cb5f82de24c98f11e829bddb1f0f9
ORGANIZER:Volleyball
SEQUENCE:261111351
LOCATION:Dreifachturnhalle im Schulzentrum, Sporthallenweg, 91438 Bad 
 Windsheim
GEO:49.50615784291917000000;10.42331996826169400000
SUMMARY:Quali U12 w: TSV Neunkirchen a.B. - SV Schwaig II
CLASS:PUBLIC
DTSTART:20221204T090000Z
DTSTAMP:20221208T203400Z
END:VEVENT
BEGIN:VEVENT
UID:309600-0b1cb5f82de24c98f11e829bddb1f0f9
X-WR-RELCALID:309600-0b1cb5f82de24c98f11e829bddb1f0f9
ORGANIZER:Volleyball
SEQUENCE:261111351
LOCATION:Dreifachturnhalle im Schulzentrum, Sporthallenweg, 91438 Bad 
 Windsheim
GEO:49.50615784291917000000;10.42331996826169400000
SUMMARY:Quali U12 w: VC Katzwang-Schwabach - TSV Neunkirchen a.B.
CLASS:PUBLIC
DTSTART:20221204T090000Z
DTSTAMP:20221208T203300Z
END:VEVENT
END:VCALENDAR