BEGIN:VCALENDAR
VERSION:2.0
PRODID:VSD-Portal-www.volley.de
METHOD:PUBLISH
BEGIN:VEVENT
UID:313759-0b1cb5f82de24c98f11e829bddb1f0f9
X-WR-RELCALID:313759-0b1cb5f82de24c98f11e829bddb1f0f9
ORGANIZER:Volleyball
SEQUENCE:261100405
LOCATION:Schulsporthalle Grund-und Mittelschule an der Führichstra. 53
 , Kirchseeoner Str. 5, 81671 München
GEO:48.11585235595703000000;11.61604785919189500000
SUMMARY:REL BZLO Fr.: SVN München - SV Oberteisendorf
CLASS:PUBLIC
DTSTART:20230423T093000Z
DTSTAMP:20230423T104500Z
END:VEVENT
BEGIN:VEVENT
UID:313761-0b1cb5f82de24c98f11e829bddb1f0f9
X-WR-RELCALID:313761-0b1cb5f82de24c98f11e829bddb1f0f9
ORGANIZER:Volleyball
SEQUENCE:261100405
LOCATION:Schulsporthalle Grund-und Mittelschule an der Führichstra. 53
 , Kirchseeoner Str. 5, 81671 München
GEO:48.11585235595703000000;11.61604785919189500000
SUMMARY:REL BZLO Fr.: TSV TB München IV - SVN München
CLASS:PUBLIC
DTSTART:20230423T093000Z
DTSTAMP:20230423T152100Z
END:VEVENT
END:VCALENDAR