BEGIN:VCALENDAR
VERSION:2.0
PRODID:VSD-Portal-www.volley.de
METHOD:PUBLISH
BEGIN:VEVENT
UID:120529-0b1cb5f82de24c98f11e829bddb1f0f9
X-WR-RELCALID:120529-0b1cb5f82de24c98f11e829bddb1f0f9
ORGANIZER:Volleyball
SEQUENCE:261100357
SUMMARY:KL NW Fr.: VG Bamberg VI - SC Memmelsdorf IV - a.K.
CLASS:PUBLIC
DTSTART:20141011T120000Z
DTSTAMP:20141011T171900Z
END:VEVENT
BEGIN:VEVENT
UID:120530-0b1cb5f82de24c98f11e829bddb1f0f9
X-WR-RELCALID:120530-0b1cb5f82de24c98f11e829bddb1f0f9
ORGANIZER:Volleyball
SEQUENCE:261100357
SUMMARY:KL NW Fr.: VG Bamberg VI - VG Forchheim
CLASS:PUBLIC
DTSTART:20141011T120000Z
DTSTAMP:20141011T171900Z
END:VEVENT
BEGIN:VEVENT
UID:120547-0b1cb5f82de24c98f11e829bddb1f0f9
X-WR-RELCALID:120547-0b1cb5f82de24c98f11e829bddb1f0f9
ORGANIZER:Volleyball
SEQUENCE:261100357
SUMMARY:KL NW Fr.: VG Bamberg VI - VC 06 Hirschaid II
CLASS:PUBLIC
DTSTART:20141108T130000Z
DTSTAMP:20141108T173400Z
END:VEVENT
BEGIN:VEVENT
UID:120548-0b1cb5f82de24c98f11e829bddb1f0f9
X-WR-RELCALID:120548-0b1cb5f82de24c98f11e829bddb1f0f9
ORGANIZER:Volleyball
SEQUENCE:261100357
SUMMARY:KL NW Fr.: VG Bamberg VI - VSG Coburg/Grub II
CLASS:PUBLIC
DTSTART:20141108T130000Z
DTSTAMP:20141108T173500Z
END:VEVENT
BEGIN:VEVENT
UID:120550-0b1cb5f82de24c98f11e829bddb1f0f9
X-WR-RELCALID:120550-0b1cb5f82de24c98f11e829bddb1f0f9
ORGANIZER:Volleyball
SEQUENCE:261100357
SUMMARY:KL NW Fr.: SC Memmelsdorf IV - a.K. - VG Bamberg VI
CLASS:PUBLIC
DTSTART:20141115T130000Z
DTSTAMP:20141115T172800Z
END:VEVENT
BEGIN:VEVENT
UID:120552-0b1cb5f82de24c98f11e829bddb1f0f9
X-WR-RELCALID:120552-0b1cb5f82de24c98f11e829bddb1f0f9
ORGANIZER:Volleyball
SEQUENCE:261100357
SUMMARY:KL NW Fr.: VG Bamberg VI - VSG Coburg/Grub
CLASS:PUBLIC
DTSTART:20141115T130000Z
DTSTAMP:20141115T172900Z
END:VEVENT
BEGIN:VEVENT
UID:120556-0b1cb5f82de24c98f11e829bddb1f0f9
X-WR-RELCALID:120556-0b1cb5f82de24c98f11e829bddb1f0f9
ORGANIZER:Volleyball
SEQUENCE:261100357
SUMMARY:KL NW Fr.: VG Bamberg IV - VG Bamberg VI
CLASS:PUBLIC
DTSTART:20141122T130000Z
DTSTAMP:20141122T171400Z
END:VEVENT
BEGIN:VEVENT
UID:120558-0b1cb5f82de24c98f11e829bddb1f0f9
X-WR-RELCALID:120558-0b1cb5f82de24c98f11e829bddb1f0f9
ORGANIZER:Volleyball
SEQUENCE:261100357
SUMMARY:KL NW Fr.: VG Bamberg VI - VG Bamberg V
CLASS:PUBLIC
DTSTART:20141122T130000Z
DTSTAMP:20141122T171400Z
END:VEVENT
BEGIN:VEVENT
UID:120574-0b1cb5f82de24c98f11e829bddb1f0f9
X-WR-RELCALID:120574-0b1cb5f82de24c98f11e829bddb1f0f9
ORGANIZER:Volleyball
SEQUENCE:261100357
SUMMARY:KL NW Fr.: SG Rödental II - VG Bamberg VI
CLASS:PUBLIC
DTSTART:20141206T130000Z
DTSTAMP:20141206T202800Z
END:VEVENT
BEGIN:VEVENT
UID:120576-0b1cb5f82de24c98f11e829bddb1f0f9
X-WR-RELCALID:120576-0b1cb5f82de24c98f11e829bddb1f0f9
ORGANIZER:Volleyball
SEQUENCE:261100357
SUMMARY:KL NW Fr.: VG Bamberg VI - VC 06 Hirschaid II
CLASS:PUBLIC
DTSTART:20141206T130000Z
DTSTAMP:20141206T202900Z
END:VEVENT
BEGIN:VEVENT
UID:120586-0b1cb5f82de24c98f11e829bddb1f0f9
X-WR-RELCALID:120586-0b1cb5f82de24c98f11e829bddb1f0f9
ORGANIZER:Volleyball
SEQUENCE:261100357
SUMMARY:KL NW Fr.: VSG Coburg/Grub - VG Bamberg VI
CLASS:PUBLIC
DTSTART:20141213T130000Z
DTSTAMP:20141213T165900Z
END:VEVENT
BEGIN:VEVENT
UID:120588-0b1cb5f82de24c98f11e829bddb1f0f9
X-WR-RELCALID:120588-0b1cb5f82de24c98f11e829bddb1f0f9
ORGANIZER:Volleyball
SEQUENCE:261100357
SUMMARY:KL NW Fr.: VG Bamberg VI - VG Forchheim
CLASS:PUBLIC
DTSTART:20141213T130000Z
DTSTAMP:20141213T170200Z
END:VEVENT
BEGIN:VEVENT
UID:120592-0b1cb5f82de24c98f11e829bddb1f0f9
X-WR-RELCALID:120592-0b1cb5f82de24c98f11e829bddb1f0f9
ORGANIZER:Volleyball
SEQUENCE:261100357
SUMMARY:KL NW Fr.: SV DJK Eggolsheim II - VG Bamberg VI
CLASS:PUBLIC
DTSTART:20150110T130000Z
DTSTAMP:20150110T171600Z
END:VEVENT
BEGIN:VEVENT
UID:120594-0b1cb5f82de24c98f11e829bddb1f0f9
X-WR-RELCALID:120594-0b1cb5f82de24c98f11e829bddb1f0f9
ORGANIZER:Volleyball
SEQUENCE:261100357
SUMMARY:KL NW Fr.: VG Bamberg VI - SC Memmelsdorf III
CLASS:PUBLIC
DTSTART:20150110T130000Z
DTSTAMP:20150110T171700Z
END:VEVENT
BEGIN:VEVENT
UID:120601-0b1cb5f82de24c98f11e829bddb1f0f9
X-WR-RELCALID:120601-0b1cb5f82de24c98f11e829bddb1f0f9
ORGANIZER:Volleyball
SEQUENCE:261100357
SUMMARY:KL NW Fr.: VG Bamberg VI - TS Lichtenfels II
CLASS:PUBLIC
DTSTART:20150117T130000Z
DTSTAMP:20150117T171600Z
END:VEVENT
BEGIN:VEVENT
UID:120602-0b1cb5f82de24c98f11e829bddb1f0f9
X-WR-RELCALID:120602-0b1cb5f82de24c98f11e829bddb1f0f9
ORGANIZER:Volleyball
SEQUENCE:261100357
SUMMARY:KL NW Fr.: VG Bamberg VI - SG Rödental II
CLASS:PUBLIC
DTSTART:20150117T130000Z
DTSTAMP:20150117T171700Z
END:VEVENT
BEGIN:VEVENT
UID:120610-0b1cb5f82de24c98f11e829bddb1f0f9
X-WR-RELCALID:120610-0b1cb5f82de24c98f11e829bddb1f0f9
ORGANIZER:Volleyball
SEQUENCE:261100357
SUMMARY:KL NW Fr.: VG Bamberg IV - VG Bamberg VI
CLASS:PUBLIC
DTSTART:20150131T130000Z
DTSTAMP:20150131T171800Z
END:VEVENT
BEGIN:VEVENT
UID:120612-0b1cb5f82de24c98f11e829bddb1f0f9
X-WR-RELCALID:120612-0b1cb5f82de24c98f11e829bddb1f0f9
ORGANIZER:Volleyball
SEQUENCE:261100357
SUMMARY:KL NW Fr.: VG Bamberg VI - TS Lichtenfels II
CLASS:PUBLIC
DTSTART:20150131T130000Z
DTSTAMP:20150131T171900Z
END:VEVENT
BEGIN:VEVENT
UID:120631-0b1cb5f82de24c98f11e829bddb1f0f9
X-WR-RELCALID:120631-0b1cb5f82de24c98f11e829bddb1f0f9
ORGANIZER:Volleyball
SEQUENCE:261100357
SUMMARY:KL NW Fr.: SC Memmelsdorf III - VG Bamberg VI
CLASS:PUBLIC
DTSTART:20150307T130000Z
DTSTAMP:20150309T080000Z
END:VEVENT
BEGIN:VEVENT
UID:120633-0b1cb5f82de24c98f11e829bddb1f0f9
X-WR-RELCALID:120633-0b1cb5f82de24c98f11e829bddb1f0f9
ORGANIZER:Volleyball
SEQUENCE:261100357
SUMMARY:KL NW Fr.: VG Bamberg VI - SV DJK Eggolsheim II
CLASS:PUBLIC
DTSTART:20150307T130000Z
DTSTAMP:20150309T080100Z
END:VEVENT
BEGIN:VEVENT
UID:120637-0b1cb5f82de24c98f11e829bddb1f0f9
X-WR-RELCALID:120637-0b1cb5f82de24c98f11e829bddb1f0f9
ORGANIZER:Volleyball
SEQUENCE:261100357
SUMMARY:KL NW Fr.: VG Bamberg VI - VG Bamberg V
CLASS:PUBLIC
DTSTART:20150314T130000Z
DTSTAMP:20150314T185400Z
END:VEVENT
BEGIN:VEVENT
UID:120638-0b1cb5f82de24c98f11e829bddb1f0f9
X-WR-RELCALID:120638-0b1cb5f82de24c98f11e829bddb1f0f9
ORGANIZER:Volleyball
SEQUENCE:261100357
SUMMARY:KL NW Fr.: VG Bamberg VI - VSG Coburg/Grub II
CLASS:PUBLIC
DTSTART:20150314T130000Z
DTSTAMP:20150314T185500Z
END:VEVENT
END:VCALENDAR