BEGIN:VCALENDAR
VERSION:2.0
PRODID:VSD-Portal-www.volley.de
METHOD:PUBLISH
BEGIN:VEVENT
UID:120535-0b1cb5f82de24c98f11e829bddb1f0f9
X-WR-RELCALID:120535-0b1cb5f82de24c98f11e829bddb1f0f9
ORGANIZER:Volleyball
SEQUENCE:261111046
SUMMARY:KL NW Fr.: VSG Coburg/Grub II - TS Lichtenfels II
CLASS:PUBLIC
DTSTART:20141025T120000Z
DTSTAMP:20141025T170300Z
END:VEVENT
BEGIN:VEVENT
UID:120536-0b1cb5f82de24c98f11e829bddb1f0f9
X-WR-RELCALID:120536-0b1cb5f82de24c98f11e829bddb1f0f9
ORGANIZER:Volleyball
SEQUENCE:261111046
SUMMARY:KL NW Fr.: VSG Coburg/Grub II - SC Memmelsdorf IV - a.K.
CLASS:PUBLIC
DTSTART:20141025T120000Z
DTSTAMP:20141025T170400Z
END:VEVENT
BEGIN:VEVENT
UID:120571-0b1cb5f82de24c98f11e829bddb1f0f9
X-WR-RELCALID:120571-0b1cb5f82de24c98f11e829bddb1f0f9
ORGANIZER:Volleyball
SEQUENCE:261111046
SUMMARY:KL NW Fr.: VSG Coburg/Grub II - VSG Coburg/Grub
CLASS:PUBLIC
DTSTART:20141206T130000Z
DTSTAMP:20141206T175600Z
END:VEVENT
BEGIN:VEVENT
UID:120572-0b1cb5f82de24c98f11e829bddb1f0f9
X-WR-RELCALID:120572-0b1cb5f82de24c98f11e829bddb1f0f9
ORGANIZER:Volleyball
SEQUENCE:261111046
SUMMARY:KL NW Fr.: VSG Coburg/Grub II - SV DJK Eggolsheim II
CLASS:PUBLIC
DTSTART:20141206T130000Z
DTSTAMP:20141206T175600Z
END:VEVENT
BEGIN:VEVENT
UID:120622-0b1cb5f82de24c98f11e829bddb1f0f9
X-WR-RELCALID:120622-0b1cb5f82de24c98f11e829bddb1f0f9
ORGANIZER:Volleyball
SEQUENCE:261111046
SUMMARY:KL NW Fr.: VSG Coburg/Grub II - VSG Coburg/Grub
CLASS:PUBLIC
DTSTART:20150221T130000Z
DTSTAMP:20150221T193300Z
END:VEVENT
BEGIN:VEVENT
UID:120623-0b1cb5f82de24c98f11e829bddb1f0f9
X-WR-RELCALID:120623-0b1cb5f82de24c98f11e829bddb1f0f9
ORGANIZER:Volleyball
SEQUENCE:261111046
SUMMARY:KL NW Fr.: VSG Coburg/Grub II - VG Bamberg V
CLASS:PUBLIC
DTSTART:20150221T130000Z
DTSTAMP:20150221T193300Z
END:VEVENT
BEGIN:VEVENT
UID:120652-0b1cb5f82de24c98f11e829bddb1f0f9
X-WR-RELCALID:120652-0b1cb5f82de24c98f11e829bddb1f0f9
ORGANIZER:Volleyball
SEQUENCE:261111046
SUMMARY:KL NW Fr.: VSG Coburg/Grub II - SC Memmelsdorf III
CLASS:PUBLIC
DTSTART:20150321T130000Z
DTSTAMP:20150321T173400Z
END:VEVENT
BEGIN:VEVENT
UID:120653-0b1cb5f82de24c98f11e829bddb1f0f9
X-WR-RELCALID:120653-0b1cb5f82de24c98f11e829bddb1f0f9
ORGANIZER:Volleyball
SEQUENCE:261111046
SUMMARY:KL NW Fr.: VSG Coburg/Grub II - VG Bamberg IV
CLASS:PUBLIC
DTSTART:20150321T130000Z
DTSTAMP:20150321T173500Z
END:VEVENT
END:VCALENDAR