BEGIN:VCALENDAR
VERSION:2.0
PRODID:VSD-Portal-www.volley.de
METHOD:PUBLISH
BEGIN:VEVENT
UID:321285-0b1cb5f82de24c98f11e829bddb1f0f9
X-WR-RELCALID:321285-0b1cb5f82de24c98f11e829bddb1f0f9
ORGANIZER:Volleyball
SEQUENCE:261092101
LOCATION:Dreifachturnhalle Mittelschule, Keplerstraße, 93073 Neutraubl
 ing
GEO:48.98664724907687400000;12.20376010848997300000
SUMMARY:KKL SW Fr.: TSV Kareth-Lappersdorf - TSV Abensberg
CLASS:PUBLIC
DTSTART:20231014T120000Z
DTSTAMP:20231015T130400Z
END:VEVENT
BEGIN:VEVENT
UID:321260-0b1cb5f82de24c98f11e829bddb1f0f9
X-WR-RELCALID:321260-0b1cb5f82de24c98f11e829bddb1f0f9
ORGANIZER:Volleyball
SEQUENCE:261092101
LOCATION:Gemeindehalle, Am Sportzentrum 1, 93138 Lappersdorf
GEO:49.04422800000000000000;12.08534050000000000000
SUMMARY:KKL SW Fr.: TSV Kareth-Lappersdorf - TV Riedenburg
CLASS:PUBLIC
DTSTART:20231125T130000Z
DTSTAMP:20231217T034000Z
END:VEVENT
BEGIN:VEVENT
UID:321261-0b1cb5f82de24c98f11e829bddb1f0f9
X-WR-RELCALID:321261-0b1cb5f82de24c98f11e829bddb1f0f9
ORGANIZER:Volleyball
SEQUENCE:261092101
LOCATION:Gemeindehalle, Am Sportzentrum 1, 93138 Lappersdorf
GEO:49.04422800000000000000;12.08534050000000000000
SUMMARY:KKL SW Fr.: TSV Kareth-Lappersdorf - DJK Daßwang II
CLASS:PUBLIC
DTSTART:20231125T130000Z
DTSTAMP:20231217T034100Z
END:VEVENT
BEGIN:VEVENT
UID:321266-0b1cb5f82de24c98f11e829bddb1f0f9
X-WR-RELCALID:321266-0b1cb5f82de24c98f11e829bddb1f0f9
ORGANIZER:Volleyball
SEQUENCE:261092101
LOCATION:Schulturnhalle, Schulstr. 6, 92358 Seubersdorf
GEO:49.16301309475880000000;11.62469527612688600000
SUMMARY:KKL SW Fr.: DJK Daßwang II - TSV Kareth-Lappersdorf
CLASS:PUBLIC
DTSTART:20231216T110000Z
DTSTAMP:20240211T120000Z
END:VEVENT
BEGIN:VEVENT
UID:321268-0b1cb5f82de24c98f11e829bddb1f0f9
X-WR-RELCALID:321268-0b1cb5f82de24c98f11e829bddb1f0f9
ORGANIZER:Volleyball
SEQUENCE:261092101
LOCATION:Schulturnhalle, Schulstr. 6, 92358 Seubersdorf
GEO:49.16301309475880000000;11.62469527612688600000
SUMMARY:KKL SW Fr.: TSV Kareth-Lappersdorf - TSV Neutraubling III
CLASS:PUBLIC
DTSTART:20231216T110000Z
DTSTAMP:20240211T120100Z
END:VEVENT
BEGIN:VEVENT
UID:321273-0b1cb5f82de24c98f11e829bddb1f0f9
X-WR-RELCALID:321273-0b1cb5f82de24c98f11e829bddb1f0f9
ORGANIZER:Volleyball
SEQUENCE:261092101
LOCATION:BOS/FOS, Fort-Skelly-Straße 31, 93053 Regensburg
GEO:48.99870698809132000000;12.10765551058958800000
SUMMARY:KKL SW Fr.: SG Donau Volleys Regensburg V - TSV Kareth-Lappers
 dorf
CLASS:PUBLIC
DTSTART:20240113T130000Z
DTSTAMP:20240211T121900Z
END:VEVENT
BEGIN:VEVENT
UID:321274-0b1cb5f82de24c98f11e829bddb1f0f9
X-WR-RELCALID:321274-0b1cb5f82de24c98f11e829bddb1f0f9
ORGANIZER:Volleyball
SEQUENCE:261092101
LOCATION:BOS/FOS, Fort-Skelly-Straße 31, 93053 Regensburg
GEO:48.99870698809132000000;12.10765551058958800000
SUMMARY:KKL SW Fr.: TV Riedenburg - TSV Kareth-Lappersdorf
CLASS:PUBLIC
DTSTART:20240113T130000Z
DTSTAMP:20240211T122000Z
END:VEVENT
BEGIN:VEVENT
UID:321278-0b1cb5f82de24c98f11e829bddb1f0f9
X-WR-RELCALID:321278-0b1cb5f82de24c98f11e829bddb1f0f9
ORGANIZER:Volleyball
SEQUENCE:261092101
LOCATION:Dreifachturnhalle Mittelschule, Keplerstraße, 93073 Neutraubl
 ing
GEO:48.98664724907687400000;12.20376010848997300000
SUMMARY:KKL SW Fr.: TSV Neutraubling III - TSV Kareth-Lappersdorf
CLASS:PUBLIC
DTSTART:20240120T120000Z
DTSTAMP:20240211T122200Z
END:VEVENT
BEGIN:VEVENT
UID:321280-0b1cb5f82de24c98f11e829bddb1f0f9
X-WR-RELCALID:321280-0b1cb5f82de24c98f11e829bddb1f0f9
ORGANIZER:Volleyball
SEQUENCE:261092101
LOCATION:Dreifachturnhalle Mittelschule, Keplerstraße, 93073 Neutraubl
 ing
GEO:48.98664724907687400000;12.20376010848997300000
SUMMARY:KKL SW Fr.: TSV Kareth-Lappersdorf - SG Donau Volleys Regensbu
 rg V
CLASS:PUBLIC
DTSTART:20240120T120000Z
DTSTAMP:20240211T122500Z
END:VEVENT
BEGIN:VEVENT
UID:321287-0b1cb5f82de24c98f11e829bddb1f0f9
X-WR-RELCALID:321287-0b1cb5f82de24c98f11e829bddb1f0f9
ORGANIZER:Volleyball
SEQUENCE:261092101
LOCATION:TSV Mehrzweckhalle, Stadionstr. 17, 93326 Abensberg
GEO:48.81743263013784400000;11.85473655952455300000
SUMMARY:KKL SW Fr.: TSV Abensberg - TSV Kareth-Lappersdorf
CLASS:PUBLIC
DTSTART:20240309T130000Z
DTSTAMP:20240309T141100Z
END:VEVENT
END:VCALENDAR