BEGIN:VCALENDAR
VERSION:2.0
PRODID:VSD-Portal-www.volley.de
METHOD:PUBLISH
BEGIN:VEVENT
UID:317131-0b1cb5f82de24c98f11e829bddb1f0f9
X-WR-RELCALID:317131-0b1cb5f82de24c98f11e829bddb1f0f9
ORGANIZER:Volleyball
SEQUENCE:261152048
SUMMARY:BZL Fr.: SC Memmelsdorf - BSV 98 Bayreuth III
CLASS:PUBLIC
DTSTART:20231021T120000Z
DTSTAMP:20231021T125900Z
END:VEVENT
BEGIN:VEVENT
UID:317132-0b1cb5f82de24c98f11e829bddb1f0f9
X-WR-RELCALID:317132-0b1cb5f82de24c98f11e829bddb1f0f9
ORGANIZER:Volleyball
SEQUENCE:261152048
SUMMARY:BZL Fr.: SC Memmelsdorf - VC 06 Hirschaid
CLASS:PUBLIC
DTSTART:20231021T120000Z
DTSTAMP:20231021T144100Z
END:VEVENT
BEGIN:VEVENT
UID:317163-0b1cb5f82de24c98f11e829bddb1f0f9
X-WR-RELCALID:317163-0b1cb5f82de24c98f11e829bddb1f0f9
ORGANIZER:Volleyball
SEQUENCE:261152048
SUMMARY:BZL Fr.: SC Memmelsdorf - VG Hof
CLASS:PUBLIC
DTSTART:20240120T130000Z
DTSTAMP:20240120T150300Z
END:VEVENT
BEGIN:VEVENT
UID:317164-0b1cb5f82de24c98f11e829bddb1f0f9
X-WR-RELCALID:317164-0b1cb5f82de24c98f11e829bddb1f0f9
ORGANIZER:Volleyball
SEQUENCE:261152048
SUMMARY:BZL Fr.: SC Memmelsdorf - TUS Neusorg
CLASS:PUBLIC
DTSTART:20240120T130000Z
DTSTAMP:20240120T171700Z
END:VEVENT
END:VCALENDAR