BEGIN:VCALENDAR
VERSION:2.0
PRODID:VSD-Portal-www.volley.de
METHOD:PUBLISH
BEGIN:VEVENT
UID:177325-2da69939ed67427dc6bf3daba21059e9
X-WR-RELCALID:177325-2da69939ed67427dc6bf3daba21059e9
ORGANIZER:Volleyball
SEQUENCE:261121808
SUMMARY:KL B Fr.: BV Vorwärts III - Marzahner VC VI
CLASS:PUBLIC
DTSTART;VALUE=DATE:20070915
DTSTAMP:20140607T181700Z
DTEND;VALUE=DATE:20070916
END:VEVENT
BEGIN:VEVENT
UID:177323-2da69939ed67427dc6bf3daba21059e9
X-WR-RELCALID:177323-2da69939ed67427dc6bf3daba21059e9
ORGANIZER:Volleyball
SEQUENCE:261121808
SUMMARY:KL B Fr.: BV Vorwärts III - TSV Lichtenberg
CLASS:PUBLIC
DTSTART;VALUE=DATE:20070915
DTSTAMP:20140607T181700Z
DTEND;VALUE=DATE:20070916
END:VEVENT
BEGIN:VEVENT
UID:177314-2da69939ed67427dc6bf3daba21059e9
X-WR-RELCALID:177314-2da69939ed67427dc6bf3daba21059e9
ORGANIZER:Volleyball
SEQUENCE:261121808
SUMMARY:KL B Fr.: Pro Sport - BV Vorwärts III
CLASS:PUBLIC
DTSTART;VALUE=DATE:20070929
DTSTAMP:20140607T181700Z
DTEND;VALUE=DATE:20070930
END:VEVENT
BEGIN:VEVENT
UID:177310-2da69939ed67427dc6bf3daba21059e9
X-WR-RELCALID:177310-2da69939ed67427dc6bf3daba21059e9
ORGANIZER:Volleyball
SEQUENCE:261121808
SUMMARY:KL B Fr.: FSC Steglitz - BV Vorwärts III
CLASS:PUBLIC
DTSTART;VALUE=DATE:20070929
DTSTAMP:20140607T181700Z
DTEND;VALUE=DATE:20070930
END:VEVENT
BEGIN:VEVENT
UID:177304-2da69939ed67427dc6bf3daba21059e9
X-WR-RELCALID:177304-2da69939ed67427dc6bf3daba21059e9
ORGANIZER:Volleyball
SEQUENCE:261121808
SUMMARY:KL B Fr.: BV Vorwärts III - VC Altglienicke
CLASS:PUBLIC
DTSTART;VALUE=DATE:20071027
DTSTAMP:20140607T181700Z
DTEND;VALUE=DATE:20071028
END:VEVENT
BEGIN:VEVENT
UID:177300-2da69939ed67427dc6bf3daba21059e9
X-WR-RELCALID:177300-2da69939ed67427dc6bf3daba21059e9
ORGANIZER:Volleyball
SEQUENCE:261121808
SUMMARY:KL B Fr.: VSG Altglienicke II - BV Vorwärts III
CLASS:PUBLIC
DTSTART;VALUE=DATE:20071027
DTSTAMP:20140607T181700Z
DTEND;VALUE=DATE:20071028
END:VEVENT
BEGIN:VEVENT
UID:177295-2da69939ed67427dc6bf3daba21059e9
X-WR-RELCALID:177295-2da69939ed67427dc6bf3daba21059e9
ORGANIZER:Volleyball
SEQUENCE:261121808
SUMMARY:KL B Fr.: VfK Südwest VI - BV Vorwärts III
CLASS:PUBLIC
DTSTART;VALUE=DATE:20071110
DTSTAMP:20140607T181700Z
DTEND;VALUE=DATE:20071111
END:VEVENT
BEGIN:VEVENT
UID:177294-2da69939ed67427dc6bf3daba21059e9
X-WR-RELCALID:177294-2da69939ed67427dc6bf3daba21059e9
ORGANIZER:Volleyball
SEQUENCE:261121808
SUMMARY:KL B Fr.: TSV Spandau IV - BV Vorwärts III
CLASS:PUBLIC
DTSTART;VALUE=DATE:20071110
DTSTAMP:20140607T181700Z
DTEND;VALUE=DATE:20071111
END:VEVENT
BEGIN:VEVENT
UID:177286-2da69939ed67427dc6bf3daba21059e9
X-WR-RELCALID:177286-2da69939ed67427dc6bf3daba21059e9
ORGANIZER:Volleyball
SEQUENCE:261121808
SUMMARY:KL B Fr.: BV Vorwärts III - Rotation Prenzlauer Berg VIII
CLASS:PUBLIC
DTSTART;VALUE=DATE:20071124
DTSTAMP:20140607T181700Z
DTEND;VALUE=DATE:20071125
END:VEVENT
BEGIN:VEVENT
UID:177282-2da69939ed67427dc6bf3daba21059e9
X-WR-RELCALID:177282-2da69939ed67427dc6bf3daba21059e9
ORGANIZER:Volleyball
SEQUENCE:261121808
SUMMARY:KL B Fr.: TSV Spandau IV - BV Vorwärts III
CLASS:PUBLIC
DTSTART;VALUE=DATE:20071124
DTSTAMP:20140607T181700Z
DTEND;VALUE=DATE:20071125
END:VEVENT
BEGIN:VEVENT
UID:177275-2da69939ed67427dc6bf3daba21059e9
X-WR-RELCALID:177275-2da69939ed67427dc6bf3daba21059e9
ORGANIZER:Volleyball
SEQUENCE:261121808
SUMMARY:KL B Fr.: FSC Steglitz - BV Vorwärts III
CLASS:PUBLIC
DTSTART;VALUE=DATE:20071208
DTSTAMP:20140607T181700Z
DTEND;VALUE=DATE:20071209
END:VEVENT
BEGIN:VEVENT
UID:177269-2da69939ed67427dc6bf3daba21059e9
X-WR-RELCALID:177269-2da69939ed67427dc6bf3daba21059e9
ORGANIZER:Volleyball
SEQUENCE:261121808
SUMMARY:KL B Fr.: Rotation Prenzlauer Berg VIII - BV Vorwärts III
CLASS:PUBLIC
DTSTART;VALUE=DATE:20071208
DTSTAMP:20140607T181700Z
DTEND;VALUE=DATE:20071209
END:VEVENT
BEGIN:VEVENT
UID:177268-2da69939ed67427dc6bf3daba21059e9
X-WR-RELCALID:177268-2da69939ed67427dc6bf3daba21059e9
ORGANIZER:Volleyball
SEQUENCE:261121808
SUMMARY:KL B Fr.: BV Vorwärts III - Pro Sport
CLASS:PUBLIC
DTSTART;VALUE=DATE:20080119
DTSTAMP:20140607T181700Z
DTEND;VALUE=DATE:20080120
END:VEVENT
BEGIN:VEVENT
UID:177264-2da69939ed67427dc6bf3daba21059e9
X-WR-RELCALID:177264-2da69939ed67427dc6bf3daba21059e9
ORGANIZER:Volleyball
SEQUENCE:261121808
SUMMARY:KL B Fr.: VSG Altglienicke II - BV Vorwärts III
CLASS:PUBLIC
DTSTART;VALUE=DATE:20080119
DTSTAMP:20140607T181700Z
DTEND;VALUE=DATE:20080120
END:VEVENT
BEGIN:VEVENT
UID:177254-2da69939ed67427dc6bf3daba21059e9
X-WR-RELCALID:177254-2da69939ed67427dc6bf3daba21059e9
ORGANIZER:Volleyball
SEQUENCE:261121808
SUMMARY:KL B Fr.: BV Vorwärts III - VC Altglienicke
CLASS:PUBLIC
DTSTART;VALUE=DATE:20080202
DTSTAMP:20140607T181700Z
DTEND;VALUE=DATE:20080203
END:VEVENT
BEGIN:VEVENT
UID:177253-2da69939ed67427dc6bf3daba21059e9
X-WR-RELCALID:177253-2da69939ed67427dc6bf3daba21059e9
ORGANIZER:Volleyball
SEQUENCE:261121808
SUMMARY:KL B Fr.: BV Vorwärts III - TSV Lichtenberg
CLASS:PUBLIC
DTSTART;VALUE=DATE:20080202
DTSTAMP:20140607T181700Z
DTEND;VALUE=DATE:20080203
END:VEVENT
BEGIN:VEVENT
UID:177247-2da69939ed67427dc6bf3daba21059e9
X-WR-RELCALID:177247-2da69939ed67427dc6bf3daba21059e9
ORGANIZER:Volleyball
SEQUENCE:261121808
SUMMARY:KL B Fr.: VfK Südwest VI - BV Vorwärts III
CLASS:PUBLIC
DTSTART;VALUE=DATE:20080216
DTSTAMP:20140607T181700Z
DTEND;VALUE=DATE:20080217
END:VEVENT
BEGIN:VEVENT
UID:177242-2da69939ed67427dc6bf3daba21059e9
X-WR-RELCALID:177242-2da69939ed67427dc6bf3daba21059e9
ORGANIZER:Volleyball
SEQUENCE:261121808
SUMMARY:KL B Fr.: Marzahner VC VI - BV Vorwärts III
CLASS:PUBLIC
DTSTART;VALUE=DATE:20080216
DTSTAMP:20140607T181700Z
DTEND;VALUE=DATE:20080217
END:VEVENT
END:VCALENDAR