BEGIN:VCALENDAR
VERSION:2.0
PRODID:VSD-Portal-www.volley.de
METHOD:PUBLISH
BEGIN:VEVENT
UID:177317-2da69939ed67427dc6bf3daba21059e9
X-WR-RELCALID:177317-2da69939ed67427dc6bf3daba21059e9
ORGANIZER:Volleyball
SEQUENCE:261091714
SUMMARY:KL B Fr.: VC Altglienicke - TSV Spandau IV
CLASS:PUBLIC
DTSTART;VALUE=DATE:20070929
DTSTAMP:20140607T181700Z
DTEND;VALUE=DATE:20070930
END:VEVENT
BEGIN:VEVENT
UID:177316-2da69939ed67427dc6bf3daba21059e9
X-WR-RELCALID:177316-2da69939ed67427dc6bf3daba21059e9
ORGANIZER:Volleyball
SEQUENCE:261091714
SUMMARY:KL B Fr.: Rotation Prenzlauer Berg VIII - TSV Spandau IV
CLASS:PUBLIC
DTSTART;VALUE=DATE:20070929
DTSTAMP:20140607T181700Z
DTEND;VALUE=DATE:20070930
END:VEVENT
BEGIN:VEVENT
UID:177308-2da69939ed67427dc6bf3daba21059e9
X-WR-RELCALID:177308-2da69939ed67427dc6bf3daba21059e9
ORGANIZER:Volleyball
SEQUENCE:261091714
SUMMARY:KL B Fr.: FSC Steglitz - TSV Spandau IV
CLASS:PUBLIC
DTSTART;VALUE=DATE:20071013
DTSTAMP:20140607T181700Z
DTEND;VALUE=DATE:20071014
END:VEVENT
BEGIN:VEVENT
UID:177305-2da69939ed67427dc6bf3daba21059e9
X-WR-RELCALID:177305-2da69939ed67427dc6bf3daba21059e9
ORGANIZER:Volleyball
SEQUENCE:261091714
SUMMARY:KL B Fr.: TSV Lichtenberg - TSV Spandau IV
CLASS:PUBLIC
DTSTART;VALUE=DATE:20071013
DTSTAMP:20140607T181700Z
DTEND;VALUE=DATE:20071014
END:VEVENT
BEGIN:VEVENT
UID:177301-2da69939ed67427dc6bf3daba21059e9
X-WR-RELCALID:177301-2da69939ed67427dc6bf3daba21059e9
ORGANIZER:Volleyball
SEQUENCE:261091714
SUMMARY:KL B Fr.: TSV Spandau IV - Pro Sport
CLASS:PUBLIC
DTSTART;VALUE=DATE:20071027
DTSTAMP:20140607T181700Z
DTEND;VALUE=DATE:20071028
END:VEVENT
BEGIN:VEVENT
UID:177298-2da69939ed67427dc6bf3daba21059e9
X-WR-RELCALID:177298-2da69939ed67427dc6bf3daba21059e9
ORGANIZER:Volleyball
SEQUENCE:261091714
SUMMARY:KL B Fr.: TSV Spandau IV - TSV Lichtenberg
CLASS:PUBLIC
DTSTART;VALUE=DATE:20071027
DTSTAMP:20140607T181700Z
DTEND;VALUE=DATE:20071028
END:VEVENT
BEGIN:VEVENT
UID:177294-2da69939ed67427dc6bf3daba21059e9
X-WR-RELCALID:177294-2da69939ed67427dc6bf3daba21059e9
ORGANIZER:Volleyball
SEQUENCE:261091714
SUMMARY:KL B Fr.: TSV Spandau IV - BV Vorwärts III
CLASS:PUBLIC
DTSTART;VALUE=DATE:20071110
DTSTAMP:20140607T181700Z
DTEND;VALUE=DATE:20071111
END:VEVENT
BEGIN:VEVENT
UID:177291-2da69939ed67427dc6bf3daba21059e9
X-WR-RELCALID:177291-2da69939ed67427dc6bf3daba21059e9
ORGANIZER:Volleyball
SEQUENCE:261091714
SUMMARY:KL B Fr.: TSV Spandau IV - VfK Südwest VI
CLASS:PUBLIC
DTSTART;VALUE=DATE:20071110
DTSTAMP:20140607T181700Z
DTEND;VALUE=DATE:20071111
END:VEVENT
BEGIN:VEVENT
UID:177285-2da69939ed67427dc6bf3daba21059e9
X-WR-RELCALID:177285-2da69939ed67427dc6bf3daba21059e9
ORGANIZER:Volleyball
SEQUENCE:261091714
SUMMARY:KL B Fr.: TSV Spandau IV - Rotation Prenzlauer Berg VIII
CLASS:PUBLIC
DTSTART;VALUE=DATE:20071124
DTSTAMP:20140607T181700Z
DTEND;VALUE=DATE:20071125
END:VEVENT
BEGIN:VEVENT
UID:177282-2da69939ed67427dc6bf3daba21059e9
X-WR-RELCALID:177282-2da69939ed67427dc6bf3daba21059e9
ORGANIZER:Volleyball
SEQUENCE:261091714
SUMMARY:KL B Fr.: TSV Spandau IV - BV Vorwärts III
CLASS:PUBLIC
DTSTART;VALUE=DATE:20071124
DTSTAMP:20140607T181700Z
DTEND;VALUE=DATE:20071125
END:VEVENT
BEGIN:VEVENT
UID:177274-2da69939ed67427dc6bf3daba21059e9
X-WR-RELCALID:177274-2da69939ed67427dc6bf3daba21059e9
ORGANIZER:Volleyball
SEQUENCE:261091714
SUMMARY:KL B Fr.: TSV Spandau IV - VSG Altglienicke II
CLASS:PUBLIC
DTSTART;VALUE=DATE:20071208
DTSTAMP:20140607T181700Z
DTEND;VALUE=DATE:20071209
END:VEVENT
BEGIN:VEVENT
UID:177272-2da69939ed67427dc6bf3daba21059e9
X-WR-RELCALID:177272-2da69939ed67427dc6bf3daba21059e9
ORGANIZER:Volleyball
SEQUENCE:261091714
SUMMARY:KL B Fr.: Marzahner VC VI - TSV Spandau IV
CLASS:PUBLIC
DTSTART;VALUE=DATE:20071208
DTSTAMP:20140607T181700Z
DTEND;VALUE=DATE:20071209
END:VEVENT
BEGIN:VEVENT
UID:177266-2da69939ed67427dc6bf3daba21059e9
X-WR-RELCALID:177266-2da69939ed67427dc6bf3daba21059e9
ORGANIZER:Volleyball
SEQUENCE:261091714
SUMMARY:KL B Fr.: FSC Steglitz - TSV Spandau IV
CLASS:PUBLIC
DTSTART;VALUE=DATE:20080119
DTSTAMP:20140607T181700Z
DTEND;VALUE=DATE:20080120
END:VEVENT
BEGIN:VEVENT
UID:177261-2da69939ed67427dc6bf3daba21059e9
X-WR-RELCALID:177261-2da69939ed67427dc6bf3daba21059e9
ORGANIZER:Volleyball
SEQUENCE:261091714
SUMMARY:KL B Fr.: Marzahner VC VI - TSV Spandau IV
CLASS:PUBLIC
DTSTART;VALUE=DATE:20080119
DTSTAMP:20140607T181700Z
DTEND;VALUE=DATE:20080120
END:VEVENT
BEGIN:VEVENT
UID:177256-2da69939ed67427dc6bf3daba21059e9
X-WR-RELCALID:177256-2da69939ed67427dc6bf3daba21059e9
ORGANIZER:Volleyball
SEQUENCE:261091714
SUMMARY:KL B Fr.: VfK Südwest VI - TSV Spandau IV
CLASS:PUBLIC
DTSTART;VALUE=DATE:20080202
DTSTAMP:20140607T181700Z
DTEND;VALUE=DATE:20080203
END:VEVENT
BEGIN:VEVENT
UID:177251-2da69939ed67427dc6bf3daba21059e9
X-WR-RELCALID:177251-2da69939ed67427dc6bf3daba21059e9
ORGANIZER:Volleyball
SEQUENCE:261091714
SUMMARY:KL B Fr.: Pro Sport - TSV Spandau IV
CLASS:PUBLIC
DTSTART;VALUE=DATE:20080202
DTSTAMP:20140607T181700Z
DTEND;VALUE=DATE:20080203
END:VEVENT
BEGIN:VEVENT
UID:177241-2da69939ed67427dc6bf3daba21059e9
X-WR-RELCALID:177241-2da69939ed67427dc6bf3daba21059e9
ORGANIZER:Volleyball
SEQUENCE:261091714
SUMMARY:KL B Fr.: VSG Altglienicke II - TSV Spandau IV
CLASS:PUBLIC
DTSTART;VALUE=DATE:20080301
DTSTAMP:20140607T181700Z
DTEND;VALUE=DATE:20080302
END:VEVENT
BEGIN:VEVENT
UID:177237-2da69939ed67427dc6bf3daba21059e9
X-WR-RELCALID:177237-2da69939ed67427dc6bf3daba21059e9
ORGANIZER:Volleyball
SEQUENCE:261091714
SUMMARY:KL B Fr.: VC Altglienicke - TSV Spandau IV
CLASS:PUBLIC
DTSTART;VALUE=DATE:20080301
DTSTAMP:20140607T181700Z
DTEND;VALUE=DATE:20080302
END:VEVENT
END:VCALENDAR