BEGIN:VCALENDAR
VERSION:2.0
PRODID:VSD-Portal-www.volley.de
METHOD:PUBLISH
BEGIN:VEVENT
UID:317684-0b1cb5f82de24c98f11e829bddb1f0f9
X-WR-RELCALID:317684-0b1cb5f82de24c98f11e829bddb1f0f9
ORGANIZER:Volleyball
SEQUENCE:261132001
LOCATION:Bürgermeister-Daffner Sporthalle, Schulstraße 1, 84183 Nieder
 viehbach
GEO:48.61819807316950000000;12.38141929367066000000
SUMMARY:BYLS Mä.: TSV Niederviehbach - TSV TB München
CLASS:PUBLIC
DTSTART:20231007T170000Z
DTSTAMP:20231013T192600Z
END:VEVENT
BEGIN:VEVENT
UID:317695-0b1cb5f82de24c98f11e829bddb1f0f9
X-WR-RELCALID:317695-0b1cb5f82de24c98f11e829bddb1f0f9
ORGANIZER:Volleyball
SEQUENCE:261132001
LOCATION:Bürgermeister-Daffner Sporthalle, Schulstraße 1, 84183 Nieder
 viehbach
GEO:48.61819807316950000000;12.38141929367066000000
SUMMARY:BYLS Mä.: TSV Niederviehbach - TSV Weißenhorn
CLASS:PUBLIC
DTSTART:20231015T140000Z
DTSTAMP:20231017T173000Z
END:VEVENT
BEGIN:VEVENT
UID:317705-0b1cb5f82de24c98f11e829bddb1f0f9
X-WR-RELCALID:317705-0b1cb5f82de24c98f11e829bddb1f0f9
ORGANIZER:Volleyball
SEQUENCE:261132001
LOCATION:Bürgermeister-Daffner Sporthalle, Schulstraße 1, 84183 Nieder
 viehbach
GEO:48.61819807316950000000;12.38141929367066000000
SUMMARY:BYLS Mä.: TSV Niederviehbach - SC Freising
CLASS:PUBLIC
DTSTART:20231029T120000Z
DTSTAMP:20231102T092500Z
END:VEVENT
BEGIN:VEVENT
UID:317720-0b1cb5f82de24c98f11e829bddb1f0f9
X-WR-RELCALID:317720-0b1cb5f82de24c98f11e829bddb1f0f9
ORGANIZER:Volleyball
SEQUENCE:261132001
LOCATION:Bürgermeister-Daffner Sporthalle, Schulstraße 1, 84183 Nieder
 viehbach
GEO:48.61819807316950000000;12.38141929367066000000
SUMMARY:BYLS Mä.: TSV Niederviehbach - TSV Mühldorf II
CLASS:PUBLIC
DTSTART:20231126T150000Z
DTSTAMP:20231206T074500Z
END:VEVENT
BEGIN:VEVENT
UID:317735-0b1cb5f82de24c98f11e829bddb1f0f9
X-WR-RELCALID:317735-0b1cb5f82de24c98f11e829bddb1f0f9
ORGANIZER:Volleyball
SEQUENCE:261132001
LOCATION:Bürgermeister-Daffner Sporthalle, Schulstraße 1, 84183 Nieder
 viehbach
GEO:48.61819807316950000000;12.38141929367066000000
SUMMARY:BYLS Mä.: TSV Niederviehbach - MTV Rosenheim
CLASS:PUBLIC
DTSTART:20240114T120000Z
DTSTAMP:20240114T205700Z
END:VEVENT
BEGIN:VEVENT
UID:317748-0b1cb5f82de24c98f11e829bddb1f0f9
X-WR-RELCALID:317748-0b1cb5f82de24c98f11e829bddb1f0f9
ORGANIZER:Volleyball
SEQUENCE:261132001
LOCATION:Bürgermeister-Daffner Sporthalle, Schulstraße 1, 84183 Nieder
 viehbach
GEO:48.61819807316950000000;12.38141929367066000000
SUMMARY:BYLS Mä.: TSV Niederviehbach - SV Lohhof
CLASS:PUBLIC
DTSTART:20240128T150000Z
DTSTAMP:20240206T182800Z
END:VEVENT
BEGIN:VEVENT
UID:317786-0b1cb5f82de24c98f11e829bddb1f0f9
X-WR-RELCALID:317786-0b1cb5f82de24c98f11e829bddb1f0f9
ORGANIZER:Volleyball
SEQUENCE:261132001
LOCATION:Bürgermeister-Daffner Sporthalle, Schulstraße 1, 84183 Nieder
 viehbach
GEO:48.61819807316950000000;12.38141929367066000000
SUMMARY:BYLS Mä.: TSV Niederviehbach - WWK VCO München II
CLASS:PUBLIC
DTSTART:20240218T140000Z
DTSTAMP:20240222T082100Z
END:VEVENT
BEGIN:VEVENT
UID:317756-0b1cb5f82de24c98f11e829bddb1f0f9
X-WR-RELCALID:317756-0b1cb5f82de24c98f11e829bddb1f0f9
ORGANIZER:Volleyball
SEQUENCE:261132001
LOCATION:Bürgermeister-Daffner Sporthalle, Schulstraße 1, 84183 Nieder
 viehbach
GEO:48.61819807316950000000;12.38141929367066000000
SUMMARY:BYLS Mä.: TSV Niederviehbach - ASV Dachau III
CLASS:PUBLIC
DTSTART:20240225T150000Z
DTSTAMP:20240226T165000Z
END:VEVENT
BEGIN:VEVENT
UID:317772-0b1cb5f82de24c98f11e829bddb1f0f9
X-WR-RELCALID:317772-0b1cb5f82de24c98f11e829bddb1f0f9
ORGANIZER:Volleyball
SEQUENCE:261132001
LOCATION:Bürgermeister-Daffner Sporthalle, Schulstraße 1, 84183 Nieder
 viehbach
GEO:48.61819807316950000000;12.38141929367066000000
SUMMARY:BYLS Mä.: TSV Niederviehbach - VC Eitting 09
CLASS:PUBLIC
DTSTART:20240302T170000Z
DTSTAMP:20240415T194500Z
END:VEVENT
BEGIN:VEVENT
UID:317759-0b1cb5f82de24c98f11e829bddb1f0f9
X-WR-RELCALID:317759-0b1cb5f82de24c98f11e829bddb1f0f9
ORGANIZER:Volleyball
SEQUENCE:261132001
LOCATION:Bürgermeister-Daffner Sporthalle, Schulstraße 1, 84183 Nieder
 viehbach
GEO:48.61819807316950000000;12.38141929367066000000
SUMMARY:BYLS Mä.: TSV Niederviehbach - SV Esting
CLASS:PUBLIC
DTSTART:20240310T150000Z
DTSTAMP:20240415T194800Z
END:VEVENT
END:VCALENDAR