BEGIN:VCALENDAR
VERSION:2.0
PRODID:VSD-Portal-www.volley.de
METHOD:PUBLISH
BEGIN:VEVENT
UID:331146-0b1cb5f82de24c98f11e829bddb1f0f9
X-WR-RELCALID:331146-0b1cb5f82de24c98f11e829bddb1f0f9
ORGANIZER:Volleyball
SEQUENCE:261100406
LOCATION:Berufsschulen Schleißheimer Str., Schleißheimer Str. 510, 809
 33 München
GEO:48.21381937752041000000;11.56387387766267200000
SUMMARY:BZLW Fr.: FTM Schwabing II - VfB Eichstätt
CLASS:PUBLIC
DTSTART:20231007T100000Z
DTSTAMP:20231007T140500Z
END:VEVENT
BEGIN:VEVENT
UID:331147-0b1cb5f82de24c98f11e829bddb1f0f9
X-WR-RELCALID:331147-0b1cb5f82de24c98f11e829bddb1f0f9
ORGANIZER:Volleyball
SEQUENCE:261100406
LOCATION:Berufsschulen Schleißheimer Str., Schleißheimer Str. 510, 809
 33 München
GEO:48.21381937752041000000;11.56387387766267200000
SUMMARY:BZLW Fr.: PSV München - VfB Eichstätt
CLASS:PUBLIC
DTSTART:20231007T100000Z
DTSTAMP:20231007T160200Z
END:VEVENT
BEGIN:VEVENT
UID:331158-0b1cb5f82de24c98f11e829bddb1f0f9
X-WR-RELCALID:331158-0b1cb5f82de24c98f11e829bddb1f0f9
ORGANIZER:Volleyball
SEQUENCE:261100406
LOCATION:Schulturnhalle, Schottenau, 85072 Eichstätt
GEO:48.88636274101209000000;11.19631067459113100000
SUMMARY:BZLW Fr.: VfB Eichstätt - SV Esting III
CLASS:PUBLIC
DTSTART:20231014T110000Z
DTSTAMP:20231014T131300Z
END:VEVENT
BEGIN:VEVENT
UID:331159-0b1cb5f82de24c98f11e829bddb1f0f9
X-WR-RELCALID:331159-0b1cb5f82de24c98f11e829bddb1f0f9
ORGANIZER:Volleyball
SEQUENCE:261100406
LOCATION:Schulturnhalle, Schottenau, 85072 Eichstätt
GEO:48.88636274101209000000;11.19631067459113100000
SUMMARY:BZLW Fr.: VfB Eichstätt - VC DJK München-Ost-Herrsching III
CLASS:PUBLIC
DTSTART:20231014T110000Z
DTSTAMP:20231014T151000Z
END:VEVENT
BEGIN:VEVENT
UID:331162-0b1cb5f82de24c98f11e829bddb1f0f9
X-WR-RELCALID:331162-0b1cb5f82de24c98f11e829bddb1f0f9
ORGANIZER:Volleyball
SEQUENCE:261100406
LOCATION:Werner-von-Siemens Gymnasium, Quiddestraße 4, 81735 München
GEO:48.11006000000000000000;11.64880800000000000000
SUMMARY:BZLW Fr.: SV SW München II - VfB Eichstätt
CLASS:PUBLIC
DTSTART:20231021T120000Z
DTSTAMP:20231021T160500Z
END:VEVENT
BEGIN:VEVENT
UID:331163-0b1cb5f82de24c98f11e829bddb1f0f9
X-WR-RELCALID:331163-0b1cb5f82de24c98f11e829bddb1f0f9
ORGANIZER:Volleyball
SEQUENCE:261100406
LOCATION:Werner-von-Siemens Gymnasium, Quiddestraße 4, 81735 München
GEO:48.11006000000000000000;11.64880800000000000000
SUMMARY:BZLW Fr.: SV Germering - VfB Eichstätt
CLASS:PUBLIC
DTSTART:20231021T120000Z
DTSTAMP:20231021T190400Z
END:VEVENT
BEGIN:VEVENT
UID:331176-0b1cb5f82de24c98f11e829bddb1f0f9
X-WR-RELCALID:331176-0b1cb5f82de24c98f11e829bddb1f0f9
ORGANIZER:Volleyball
SEQUENCE:261100406
LOCATION:Schulturnhalle, Schottenau, 85072 Eichstätt
GEO:48.88636274101209000000;11.19631067459113100000
SUMMARY:BZLW Fr.: VfB Eichstätt - SG ESV Ingolstadt/TSV Kösching
CLASS:PUBLIC
DTSTART:20231125T110000Z
DTSTAMP:20231125T131400Z
END:VEVENT
BEGIN:VEVENT
UID:331177-0b1cb5f82de24c98f11e829bddb1f0f9
X-WR-RELCALID:331177-0b1cb5f82de24c98f11e829bddb1f0f9
ORGANIZER:Volleyball
SEQUENCE:261100406
LOCATION:Schulturnhalle, Schottenau, 85072 Eichstätt
GEO:48.88636274101209000000;11.19631067459113100000
SUMMARY:BZLW Fr.: VfB Eichstätt - TSV TB München III
CLASS:PUBLIC
DTSTART:20231125T110000Z
DTSTAMP:20231125T152500Z
END:VEVENT
BEGIN:VEVENT
UID:331358-0b1cb5f82de24c98f11e829bddb1f0f9
X-WR-RELCALID:331358-0b1cb5f82de24c98f11e829bddb1f0f9
ORGANIZER:Volleyball
SEQUENCE:261100406
LOCATION:Schulturnhalle, Schottenau, 85072 Eichstätt
GEO:48.88636274101209000000;11.19631067459113100000
SUMMARY:BZLW Fr.: VfB Eichstätt - SV Esting II
CLASS:PUBLIC
DTSTART:20240113T110000Z
DTSTAMP:20240113T123700Z
END:VEVENT
BEGIN:VEVENT
UID:331359-0b1cb5f82de24c98f11e829bddb1f0f9
X-WR-RELCALID:331359-0b1cb5f82de24c98f11e829bddb1f0f9
ORGANIZER:Volleyball
SEQUENCE:261100406
LOCATION:Schulturnhalle, Schottenau, 85072 Eichstätt
GEO:48.88636274101209000000;11.19631067459113100000
SUMMARY:BZLW Fr.: VfB Eichstätt - PSV München
CLASS:PUBLIC
DTSTART:20240113T110000Z
DTSTAMP:20240113T153600Z
END:VEVENT
BEGIN:VEVENT
UID:331365-0b1cb5f82de24c98f11e829bddb1f0f9
X-WR-RELCALID:331365-0b1cb5f82de24c98f11e829bddb1f0f9
ORGANIZER:Volleyball
SEQUENCE:261100406
LOCATION:Wittelsbacher Halle, Fliederstraße 70, 82110 Germering
GEO:48.13517214333969000000;11.37890526256558100000
SUMMARY:BZLW Fr.: SV Germering - VfB Eichstätt
CLASS:PUBLIC
DTSTART:20240120T120000Z
DTSTAMP:20240120T150400Z
END:VEVENT
BEGIN:VEVENT
UID:331366-0b1cb5f82de24c98f11e829bddb1f0f9
X-WR-RELCALID:331366-0b1cb5f82de24c98f11e829bddb1f0f9
ORGANIZER:Volleyball
SEQUENCE:261100406
LOCATION:Wittelsbacher Halle, Fliederstraße 70, 82110 Germering
GEO:48.13517214333969000000;11.37890526256558100000
SUMMARY:BZLW Fr.: SV Esting III - VfB Eichstätt
CLASS:PUBLIC
DTSTART:20240120T120000Z
DTSTAMP:20240120T165100Z
END:VEVENT
BEGIN:VEVENT
UID:331186-0b1cb5f82de24c98f11e829bddb1f0f9
X-WR-RELCALID:331186-0b1cb5f82de24c98f11e829bddb1f0f9
ORGANIZER:Volleyball
SEQUENCE:261100406
LOCATION:Berufsschulen Schleißheimer Str., Schleißheimer Str. 510, 809
 33 München
GEO:48.21381937752041000000;11.56387387766267200000
SUMMARY:BZLW Fr.: FTM Schwabing II - VfB Eichstätt
CLASS:PUBLIC
DTSTART:20240210T120000Z
DTSTAMP:20240210T154400Z
END:VEVENT
BEGIN:VEVENT
UID:331187-0b1cb5f82de24c98f11e829bddb1f0f9
X-WR-RELCALID:331187-0b1cb5f82de24c98f11e829bddb1f0f9
ORGANIZER:Volleyball
SEQUENCE:261100406
LOCATION:Berufsschulen Schleißheimer Str., Schleißheimer Str. 510, 809
 33 München
GEO:48.21381937752041000000;11.56387387766267200000
SUMMARY:BZLW Fr.: SV Esting II - VfB Eichstätt
CLASS:PUBLIC
DTSTART:20240210T120000Z
DTSTAMP:20240210T181300Z
END:VEVENT
BEGIN:VEVENT
UID:331393-0b1cb5f82de24c98f11e829bddb1f0f9
X-WR-RELCALID:331393-0b1cb5f82de24c98f11e829bddb1f0f9
ORGANIZER:Volleyball
SEQUENCE:261100406
LOCATION:TS Jahn München, Weltenburger Str. 53, 81677 München
GEO:48.14491853699675500000;11.62755961838524900000
SUMMARY:BZLW Fr.: TS Jahn München - VfB Eichstätt
CLASS:PUBLIC
DTSTART:20240224T133000Z
DTSTAMP:20240224T172900Z
END:VEVENT
BEGIN:VEVENT
UID:331394-0b1cb5f82de24c98f11e829bddb1f0f9
X-WR-RELCALID:331394-0b1cb5f82de24c98f11e829bddb1f0f9
ORGANIZER:Volleyball
SEQUENCE:261100406
LOCATION:TS Jahn München, Weltenburger Str. 53, 81677 München
GEO:48.14491853699675500000;11.62755961838524900000
SUMMARY:BZLW Fr.: VC DJK München-Ost-Herrsching III - VfB Eichstätt
CLASS:PUBLIC
DTSTART:20240224T133000Z
DTSTAMP:20240224T201400Z
END:VEVENT
BEGIN:VEVENT
UID:331396-0b1cb5f82de24c98f11e829bddb1f0f9
X-WR-RELCALID:331396-0b1cb5f82de24c98f11e829bddb1f0f9
ORGANIZER:Volleyball
SEQUENCE:261100406
LOCATION:Theodolinden-Gymnasium, Am Staudengarten 2, 81547 München
GEO:48.09783870000000000000;11.57576010000000000000
SUMMARY:BZLW Fr.: TSV TB München III - VfB Eichstätt
CLASS:PUBLIC
DTSTART:20240302T100000Z
DTSTAMP:20240302T140200Z
END:VEVENT
BEGIN:VEVENT
UID:331397-0b1cb5f82de24c98f11e829bddb1f0f9
X-WR-RELCALID:331397-0b1cb5f82de24c98f11e829bddb1f0f9
ORGANIZER:Volleyball
SEQUENCE:261100406
LOCATION:Theodolinden-Gymnasium, Am Staudengarten 2, 81547 München
GEO:48.09783870000000000000;11.57576010000000000000
SUMMARY:BZLW Fr.: SG ESV Ingolstadt/TSV Kösching - VfB Eichstätt
CLASS:PUBLIC
DTSTART:20240302T100000Z
DTSTAMP:20240302T160700Z
END:VEVENT
BEGIN:VEVENT
UID:331406-0b1cb5f82de24c98f11e829bddb1f0f9
X-WR-RELCALID:331406-0b1cb5f82de24c98f11e829bddb1f0f9
ORGANIZER:Volleyball
SEQUENCE:261100406
LOCATION:TS Jahn München, Weltenburger Str. 53, 81677 München
GEO:48.14491853699675500000;11.62755961838524900000
SUMMARY:BZLW Fr.: TS Jahn München - VfB Eichstätt
CLASS:PUBLIC
DTSTART:20240309T133000Z
DTSTAMP:20240309T173500Z
END:VEVENT
BEGIN:VEVENT
UID:331408-0b1cb5f82de24c98f11e829bddb1f0f9
X-WR-RELCALID:331408-0b1cb5f82de24c98f11e829bddb1f0f9
ORGANIZER:Volleyball
SEQUENCE:261100406
LOCATION:TS Jahn München, Weltenburger Str. 53, 81677 München
GEO:48.14491853699675500000;11.62755961838524900000
SUMMARY:BZLW Fr.: SV SW München II - VfB Eichstätt
CLASS:PUBLIC
DTSTART:20240309T133000Z
DTSTAMP:20240309T195400Z
END:VEVENT
END:VCALENDAR