BEGIN:VCALENDAR
VERSION:2.0
PRODID:VSD-Portal-www.volley.de
METHOD:PUBLISH
BEGIN:VEVENT
UID:332314-0b1cb5f82de24c98f11e829bddb1f0f9
X-WR-RELCALID:332314-0b1cb5f82de24c98f11e829bddb1f0f9
ORGANIZER:Volleyball
SEQUENCE:261111352
LOCATION:Grund- und Mittelschule Obergünzburg, Nikolausberg 5, 87634 O
 bergünzburg
GEO:47.84815480000000000000;10.42313010000000000000
SUMMARY:U14 w: SV Mauerstetten - SV Mauerstetten II
CLASS:PUBLIC
DTSTART:20231022T090000Z
DTSTAMP:20231022T095300Z
END:VEVENT
BEGIN:VEVENT
UID:332318-0b1cb5f82de24c98f11e829bddb1f0f9
X-WR-RELCALID:332318-0b1cb5f82de24c98f11e829bddb1f0f9
ORGANIZER:Volleyball
SEQUENCE:261111352
LOCATION:Grund- und Mittelschule Obergünzburg, Nikolausberg 5, 87634 O
 bergünzburg
GEO:47.84815480000000000000;10.42313010000000000000
SUMMARY:U14 w: TSV Sonthofen III - SV Mauerstetten
CLASS:PUBLIC
DTSTART:20231022T110000Z
DTSTAMP:20231022T115800Z
END:VEVENT
BEGIN:VEVENT
UID:332321-0b1cb5f82de24c98f11e829bddb1f0f9
X-WR-RELCALID:332321-0b1cb5f82de24c98f11e829bddb1f0f9
ORGANIZER:Volleyball
SEQUENCE:261111352
LOCATION:Grund- und Mittelschule Obergünzburg, Nikolausberg 5, 87634 O
 bergünzburg
GEO:47.84815480000000000000;10.42313010000000000000
SUMMARY:U14 w: SV Mauerstetten - TSV Obergünzburg II - a.K.
CLASS:PUBLIC
DTSTART:20231022T120000Z
DTSTAMP:20231022T130800Z
END:VEVENT
BEGIN:VEVENT
UID:332323-0b1cb5f82de24c98f11e829bddb1f0f9
X-WR-RELCALID:332323-0b1cb5f82de24c98f11e829bddb1f0f9
ORGANIZER:Volleyball
SEQUENCE:261111352
LOCATION:Dreifachturnhalle, Am Schlatter 5, 87665 Mauerstetten
GEO:47.90184064634593000000;10.67198529101562000000
SUMMARY:U14 w: SV Mauerstetten - TSV Sonthofen II
CLASS:PUBLIC
DTSTART:20231119T090000Z
DTSTAMP:20231119T165700Z
END:VEVENT
BEGIN:VEVENT
UID:332328-0b1cb5f82de24c98f11e829bddb1f0f9
X-WR-RELCALID:332328-0b1cb5f82de24c98f11e829bddb1f0f9
ORGANIZER:Volleyball
SEQUENCE:261111352
LOCATION:Dreifachturnhalle, Am Schlatter 5, 87665 Mauerstetten
GEO:47.90184064634593000000;10.67198529101562000000
SUMMARY:U14 w: TSV Obergünzburg - SV Mauerstetten
CLASS:PUBLIC
DTSTART:20231119T110000Z
DTSTAMP:20231119T170200Z
END:VEVENT
BEGIN:VEVENT
UID:332332-0b1cb5f82de24c98f11e829bddb1f0f9
X-WR-RELCALID:332332-0b1cb5f82de24c98f11e829bddb1f0f9
ORGANIZER:Volleyball
SEQUENCE:261111352
LOCATION:Dreifachturnhalle, Am Schlatter 5, 87665 Mauerstetten
GEO:47.90184064634593000000;10.67198529101562000000
SUMMARY:U14 w: TSV Sonthofen IV - SV Mauerstetten
CLASS:PUBLIC
DTSTART:20231119T130000Z
DTSTAMP:20231119T170700Z
END:VEVENT
BEGIN:VEVENT
UID:332335-0b1cb5f82de24c98f11e829bddb1f0f9
X-WR-RELCALID:332335-0b1cb5f82de24c98f11e829bddb1f0f9
ORGANIZER:Volleyball
SEQUENCE:261111352
LOCATION:Heribert-Wilhelm-Sporthalle, Hindelanger Straße 22, 87527 Son
 thofen
GEO:47.51220405434327000000;10.28798081481932000000
SUMMARY:U14 w: SV Mauerstetten - SV Mauerstetten II
CLASS:PUBLIC
DTSTART:20231203T100000Z
DTSTAMP:20231205T213300Z
END:VEVENT
BEGIN:VEVENT
UID:332339-0b1cb5f82de24c98f11e829bddb1f0f9
X-WR-RELCALID:332339-0b1cb5f82de24c98f11e829bddb1f0f9
ORGANIZER:Volleyball
SEQUENCE:261111352
LOCATION:Heribert-Wilhelm-Sporthalle, Hindelanger Straße 22, 87527 Son
 thofen
GEO:47.51220405434327000000;10.28798081481932000000
SUMMARY:U14 w: SV Mauerstetten - TSV Sonthofen II
CLASS:PUBLIC
DTSTART:20231203T120000Z
DTSTAMP:20231203T164400Z
END:VEVENT
BEGIN:VEVENT
UID:332341-0b1cb5f82de24c98f11e829bddb1f0f9
X-WR-RELCALID:332341-0b1cb5f82de24c98f11e829bddb1f0f9
ORGANIZER:Volleyball
SEQUENCE:261111352
LOCATION:Heribert-Wilhelm-Sporthalle, Hindelanger Straße 22, 87527 Son
 thofen
GEO:47.51220405434327000000;10.28798081481932000000
SUMMARY:U14 w: TSV Sonthofen III - SV Mauerstetten
CLASS:PUBLIC
DTSTART:20231203T130000Z
DTSTAMP:20231203T163900Z
END:VEVENT
BEGIN:VEVENT
UID:332346-0b1cb5f82de24c98f11e829bddb1f0f9
X-WR-RELCALID:332346-0b1cb5f82de24c98f11e829bddb1f0f9
ORGANIZER:Volleyball
SEQUENCE:261111352
LOCATION:Heribert-Wilhelm-Sporthalle, Hindelanger Straße 22, 87527 Son
 thofen
GEO:47.51220405434327000000;10.28798081481932000000
SUMMARY:U14 w: TSV Obergünzburg - SV Mauerstetten
CLASS:PUBLIC
DTSTART:20240121T100000Z
DTSTAMP:20240121T175500Z
END:VEVENT
BEGIN:VEVENT
UID:332350-0b1cb5f82de24c98f11e829bddb1f0f9
X-WR-RELCALID:332350-0b1cb5f82de24c98f11e829bddb1f0f9
ORGANIZER:Volleyball
SEQUENCE:261111352
LOCATION:Heribert-Wilhelm-Sporthalle, Hindelanger Straße 22, 87527 Son
 thofen
GEO:47.51220405434327000000;10.28798081481932000000
SUMMARY:U14 w: TSV Sonthofen IV - SV Mauerstetten
CLASS:PUBLIC
DTSTART:20240121T120000Z
DTSTAMP:20240121T175700Z
END:VEVENT
BEGIN:VEVENT
UID:332353-0b1cb5f82de24c98f11e829bddb1f0f9
X-WR-RELCALID:332353-0b1cb5f82de24c98f11e829bddb1f0f9
ORGANIZER:Volleyball
SEQUENCE:261111352
LOCATION:Heribert-Wilhelm-Sporthalle, Hindelanger Straße 22, 87527 Son
 thofen
GEO:47.51220405434327000000;10.28798081481932000000
SUMMARY:U14 w: TSV Obergünzburg II - a.K. - SV Mauerstetten
CLASS:PUBLIC
DTSTART:20240121T130000Z
DTSTAMP:20240121T175700Z
END:VEVENT
END:VCALENDAR