BEGIN:VCALENDAR
VERSION:2.0
PRODID:VSD-Portal-www.volley.de
METHOD:PUBLISH
BEGIN:VEVENT
UID:332313-0b1cb5f82de24c98f11e829bddb1f0f9
X-WR-RELCALID:332313-0b1cb5f82de24c98f11e829bddb1f0f9
ORGANIZER:Volleyball
SEQUENCE:261111156
LOCATION:Grund- und Mittelschule Obergünzburg, Nikolausberg 5, 87634 O
 bergünzburg
GEO:47.84815480000000000000;10.42313010000000000000
SUMMARY:U14 w: TSV Obergünzburg - TSV Obergünzburg II - a.K.
CLASS:PUBLIC
DTSTART:20231022T080000Z
DTSTAMP:20231022T085900Z
END:VEVENT
BEGIN:VEVENT
UID:332316-0b1cb5f82de24c98f11e829bddb1f0f9
X-WR-RELCALID:332316-0b1cb5f82de24c98f11e829bddb1f0f9
ORGANIZER:Volleyball
SEQUENCE:261111156
LOCATION:Grund- und Mittelschule Obergünzburg, Nikolausberg 5, 87634 O
 bergünzburg
GEO:47.84815480000000000000;10.42313010000000000000
SUMMARY:U14 w: TSV Obergünzburg II - a.K. - SV Mauerstetten II
CLASS:PUBLIC
DTSTART:20231022T100000Z
DTSTAMP:20231022T104300Z
END:VEVENT
BEGIN:VEVENT
UID:332321-0b1cb5f82de24c98f11e829bddb1f0f9
X-WR-RELCALID:332321-0b1cb5f82de24c98f11e829bddb1f0f9
ORGANIZER:Volleyball
SEQUENCE:261111156
LOCATION:Grund- und Mittelschule Obergünzburg, Nikolausberg 5, 87634 O
 bergünzburg
GEO:47.84815480000000000000;10.42313010000000000000
SUMMARY:U14 w: SV Mauerstetten - TSV Obergünzburg II - a.K.
CLASS:PUBLIC
DTSTART:20231022T120000Z
DTSTAMP:20231022T130800Z
END:VEVENT
BEGIN:VEVENT
UID:332322-0b1cb5f82de24c98f11e829bddb1f0f9
X-WR-RELCALID:332322-0b1cb5f82de24c98f11e829bddb1f0f9
ORGANIZER:Volleyball
SEQUENCE:261111156
LOCATION:Grund- und Mittelschule Obergünzburg, Nikolausberg 5, 87634 O
 bergünzburg
GEO:47.84815480000000000000;10.42313010000000000000
SUMMARY:U14 w: TSV Sonthofen III - TSV Obergünzburg II - a.K.
CLASS:PUBLIC
DTSTART:20231022T130000Z
DTSTAMP:20231022T134700Z
END:VEVENT
BEGIN:VEVENT
UID:332326-0b1cb5f82de24c98f11e829bddb1f0f9
X-WR-RELCALID:332326-0b1cb5f82de24c98f11e829bddb1f0f9
ORGANIZER:Volleyball
SEQUENCE:261111156
LOCATION:Dreifachturnhalle, Am Schlatter 5, 87665 Mauerstetten
GEO:47.90184064634593000000;10.67198529101562000000
SUMMARY:U14 w: TSV Sonthofen IV - TSV Obergünzburg II - a.K.
CLASS:PUBLIC
DTSTART:20231119T100000Z
DTSTAMP:20231119T170500Z
END:VEVENT
BEGIN:VEVENT
UID:332329-0b1cb5f82de24c98f11e829bddb1f0f9
X-WR-RELCALID:332329-0b1cb5f82de24c98f11e829bddb1f0f9
ORGANIZER:Volleyball
SEQUENCE:261111156
LOCATION:Dreifachturnhalle, Am Schlatter 5, 87665 Mauerstetten
GEO:47.90184064634593000000;10.67198529101562000000
SUMMARY:U14 w: TSV Sonthofen II - TSV Obergünzburg II - a.K.
CLASS:PUBLIC
DTSTART:20231119T120000Z
DTSTAMP:20231119T170500Z
END:VEVENT
BEGIN:VEVENT
UID:332334-0b1cb5f82de24c98f11e829bddb1f0f9
X-WR-RELCALID:332334-0b1cb5f82de24c98f11e829bddb1f0f9
ORGANIZER:Volleyball
SEQUENCE:261111156
LOCATION:Heribert-Wilhelm-Sporthalle, Hindelanger Straße 22, 87527 Son
 thofen
GEO:47.51220405434327000000;10.28798081481932000000
SUMMARY:U14 w: TSV Obergünzburg - TSV Obergünzburg II - a.K.
CLASS:PUBLIC
DTSTART:20231203T090000Z
DTSTAMP:20240121T184400Z
END:VEVENT
BEGIN:VEVENT
UID:332336-0b1cb5f82de24c98f11e829bddb1f0f9
X-WR-RELCALID:332336-0b1cb5f82de24c98f11e829bddb1f0f9
ORGANIZER:Volleyball
SEQUENCE:261111156
LOCATION:Heribert-Wilhelm-Sporthalle, Hindelanger Straße 22, 87527 Son
 thofen
GEO:47.51220405434327000000;10.28798081481932000000
SUMMARY:U14 w: TSV Obergünzburg II - a.K. - TSV Sonthofen II
CLASS:PUBLIC
DTSTART:20231203T100000Z
DTSTAMP:20231203T164200Z
END:VEVENT
BEGIN:VEVENT
UID:332340-0b1cb5f82de24c98f11e829bddb1f0f9
X-WR-RELCALID:332340-0b1cb5f82de24c98f11e829bddb1f0f9
ORGANIZER:Volleyball
SEQUENCE:261111156
LOCATION:Heribert-Wilhelm-Sporthalle, Hindelanger Straße 22, 87527 Son
 thofen
GEO:47.51220405434327000000;10.28798081481932000000
SUMMARY:U14 w: TSV Sonthofen IV - TSV Obergünzburg II - a.K.
CLASS:PUBLIC
DTSTART:20231203T120000Z
DTSTAMP:20231203T163900Z
END:VEVENT
BEGIN:VEVENT
UID:332345-0b1cb5f82de24c98f11e829bddb1f0f9
X-WR-RELCALID:332345-0b1cb5f82de24c98f11e829bddb1f0f9
ORGANIZER:Volleyball
SEQUENCE:261111156
LOCATION:Heribert-Wilhelm-Sporthalle, Hindelanger Straße 22, 87527 Son
 thofen
GEO:47.51220405434327000000;10.28798081481932000000
SUMMARY:U14 w: TSV Obergünzburg II - a.K. - SV Mauerstetten II
CLASS:PUBLIC
DTSTART:20240121T090000Z
DTSTAMP:20240121T175500Z
END:VEVENT
BEGIN:VEVENT
UID:332349-0b1cb5f82de24c98f11e829bddb1f0f9
X-WR-RELCALID:332349-0b1cb5f82de24c98f11e829bddb1f0f9
ORGANIZER:Volleyball
SEQUENCE:261111156
LOCATION:Heribert-Wilhelm-Sporthalle, Hindelanger Straße 22, 87527 Son
 thofen
GEO:47.51220405434327000000;10.28798081481932000000
SUMMARY:U14 w: TSV Sonthofen III - TSV Obergünzburg II - a.K.
CLASS:PUBLIC
DTSTART:20240121T110000Z
DTSTAMP:20240121T175600Z
END:VEVENT
BEGIN:VEVENT
UID:332353-0b1cb5f82de24c98f11e829bddb1f0f9
X-WR-RELCALID:332353-0b1cb5f82de24c98f11e829bddb1f0f9
ORGANIZER:Volleyball
SEQUENCE:261111156
LOCATION:Heribert-Wilhelm-Sporthalle, Hindelanger Straße 22, 87527 Son
 thofen
GEO:47.51220405434327000000;10.28798081481932000000
SUMMARY:U14 w: TSV Obergünzburg II - a.K. - SV Mauerstetten
CLASS:PUBLIC
DTSTART:20240121T130000Z
DTSTAMP:20240121T175700Z
END:VEVENT
END:VCALENDAR