BEGIN:VCALENDAR
VERSION:2.0
PRODID:VSD-Portal-www.volley.de
METHOD:PUBLISH
BEGIN:VEVENT
UID:340600-0b1cb5f82de24c98f11e829bddb1f0f9
X-WR-RELCALID:340600-0b1cb5f82de24c98f11e829bddb1f0f9
ORGANIZER:Volleyball
SEQUENCE:261101026
SUMMARY:U 15 w: VfR Jettingen - a.K. - FSV Marktoffingen II
CLASS:PUBLIC
DTSTART:20240421T090000Z
DTSTAMP:20240123T113900Z
END:VEVENT
END:VCALENDAR