BEGIN:VCALENDAR
VERSION:2.0
PRODID:VSD-Portal-www.volley.de
METHOD:PUBLISH
BEGIN:VEVENT
UID:336002-0b1cb5f82de24c98f11e829bddb1f0f9
X-WR-RELCALID:336002-0b1cb5f82de24c98f11e829bddb1f0f9
ORGANIZER:Volleyball
SEQUENCE:261110233
SUMMARY:U14 BKL 1 w: ASV Dachau III - Gautinger SC
CLASS:PUBLIC
DTSTART;VALUE=DATE:20231126
DTSTAMP:20231126T094200Z
DTEND;VALUE=DATE:20231127
END:VEVENT
BEGIN:VEVENT
UID:336004-0b1cb5f82de24c98f11e829bddb1f0f9
X-WR-RELCALID:336004-0b1cb5f82de24c98f11e829bddb1f0f9
ORGANIZER:Volleyball
SEQUENCE:261110233
SUMMARY:U14 BKL 1 w: ASV Dachau III - SV Lohhof II
CLASS:PUBLIC
DTSTART;VALUE=DATE:20231126
DTSTAMP:20231126T110200Z
DTEND;VALUE=DATE:20231127
END:VEVENT
BEGIN:VEVENT
UID:336005-0b1cb5f82de24c98f11e829bddb1f0f9
X-WR-RELCALID:336005-0b1cb5f82de24c98f11e829bddb1f0f9
ORGANIZER:Volleyball
SEQUENCE:261110233
SUMMARY:U14 BKL 1 w: SV Inning - ASV Dachau III
CLASS:PUBLIC
DTSTART;VALUE=DATE:20231126
DTSTAMP:20231126T121300Z
DTEND;VALUE=DATE:20231127
END:VEVENT
END:VCALENDAR