BEGIN:VCALENDAR
VERSION:2.0
PRODID:VSD-Portal-www.volley.de
METHOD:PUBLISH
BEGIN:VEVENT
UID:336018-0b1cb5f82de24c98f11e829bddb1f0f9
X-WR-RELCALID:336018-0b1cb5f82de24c98f11e829bddb1f0f9
ORGANIZER:Volleyball
SEQUENCE:261110231
SUMMARY:U14 BKL 1 w: TSV Neufahrn - ASV Dachau III
CLASS:PUBLIC
DTSTART;VALUE=DATE:20231217
DTSTAMP:20231217T105400Z
DTEND;VALUE=DATE:20231218
END:VEVENT
END:VCALENDAR