BEGIN:VCALENDAR
VERSION:2.0
PRODID:VSD-Portal-www.volley.de
METHOD:PUBLISH
BEGIN:VEVENT
UID:334406-0b1cb5f82de24c98f11e829bddb1f0f9
X-WR-RELCALID:334406-0b1cb5f82de24c98f11e829bddb1f0f9
ORGANIZER:Volleyball
SEQUENCE:261121306
LOCATION:Dominikus-Zimmermann-Gymnasium, Platanenstraße 2, 86899 Lands
 berg
GEO:48.05208081931811000000;10.86247364418022700000
SUMMARY:U18 KL 4 w: FSV Eching - SV Inning II
CLASS:PUBLIC
DTSTART:20231015T080000Z
DTSTAMP:20231015T163500Z
END:VEVENT
BEGIN:VEVENT
UID:334412-0b1cb5f82de24c98f11e829bddb1f0f9
X-WR-RELCALID:334412-0b1cb5f82de24c98f11e829bddb1f0f9
ORGANIZER:Volleyball
SEQUENCE:261121306
LOCATION:Dominikus-Zimmermann-Gymnasium, Platanenstraße 2, 86899 Lands
 berg
GEO:48.05208081931811000000;10.86247364418022700000
SUMMARY:U18 KL 4 w: TSV Tutzing - SV Inning II
CLASS:PUBLIC
DTSTART:20231015T093000Z
DTSTAMP:20231015T161900Z
END:VEVENT
BEGIN:VEVENT
UID:334415-0b1cb5f82de24c98f11e829bddb1f0f9
X-WR-RELCALID:334415-0b1cb5f82de24c98f11e829bddb1f0f9
ORGANIZER:Volleyball
SEQUENCE:261121306
LOCATION:Dominikus-Zimmermann-Gymnasium, Platanenstraße 2, 86899 Lands
 berg
GEO:48.05208081931811000000;10.86247364418022700000
SUMMARY:U18 KL 4 w: Lechrain Volleys - SV Inning II
CLASS:PUBLIC
DTSTART:20231015T103000Z
DTSTAMP:20231015T180600Z
END:VEVENT
BEGIN:VEVENT
UID:334419-0b1cb5f82de24c98f11e829bddb1f0f9
X-WR-RELCALID:334419-0b1cb5f82de24c98f11e829bddb1f0f9
ORGANIZER:Volleyball
SEQUENCE:261121306
LOCATION:Neue Realschulhalle, Jahnstraße 10, 82211 Herrsching
GEO:48.00433712667110000000;11.16995176455691300000
SUMMARY:U18 KL 4 w: SV Inning II - TSV Steingaden
CLASS:PUBLIC
DTSTART:20231126T090000Z
DTSTAMP:20231126T152100Z
END:VEVENT
BEGIN:VEVENT
UID:334422-0b1cb5f82de24c98f11e829bddb1f0f9
X-WR-RELCALID:334422-0b1cb5f82de24c98f11e829bddb1f0f9
ORGANIZER:Volleyball
SEQUENCE:261121306
LOCATION:Neue Realschulhalle, Jahnstraße 10, 82211 Herrsching
GEO:48.00433712667110000000;11.16995176455691300000
SUMMARY:U18 KL 4 w: TSV Weilheim - SV Inning II
CLASS:PUBLIC
DTSTART:20231126T090000Z
DTSTAMP:20231126T152100Z
END:VEVENT
BEGIN:VEVENT
UID:334425-0b1cb5f82de24c98f11e829bddb1f0f9
X-WR-RELCALID:334425-0b1cb5f82de24c98f11e829bddb1f0f9
ORGANIZER:Volleyball
SEQUENCE:261121306
LOCATION:Neue Realschulhalle, Jahnstraße 10, 82211 Herrsching
GEO:48.00433712667110000000;11.16995176455691300000
SUMMARY:U18 KL 4 w: TSV Tutzing - SV Inning II
CLASS:PUBLIC
DTSTART:20231126T090000Z
DTSTAMP:20231126T152000Z
END:VEVENT
BEGIN:VEVENT
UID:334429-0b1cb5f82de24c98f11e829bddb1f0f9
X-WR-RELCALID:334429-0b1cb5f82de24c98f11e829bddb1f0f9
ORGANIZER:Volleyball
SEQUENCE:261121306
LOCATION:Hardtschule, Hardtkapellenstraße 6, 82362 Weilheim
GEO:47.84176727769220600000;11.15502437301631700000
SUMMARY:U18 KL 4 w: Lechrain Volleys - SV Inning II
CLASS:PUBLIC
DTSTART:20231217T090000Z
DTSTAMP:20231217T181300Z
END:VEVENT
BEGIN:VEVENT
UID:334436-0b1cb5f82de24c98f11e829bddb1f0f9
X-WR-RELCALID:334436-0b1cb5f82de24c98f11e829bddb1f0f9
ORGANIZER:Volleyball
SEQUENCE:261121306
LOCATION:Hardtschule, Hardtkapellenstraße 6, 82362 Weilheim
GEO:47.84176727769220600000;11.15502437301631700000
SUMMARY:U18 KL 4 w: VC DJK München-Ost-Herrsching - SV Inning II
CLASS:PUBLIC
DTSTART:20231217T100000Z
DTSTAMP:20231217T181600Z
END:VEVENT
BEGIN:VEVENT
UID:334433-0b1cb5f82de24c98f11e829bddb1f0f9
X-WR-RELCALID:334433-0b1cb5f82de24c98f11e829bddb1f0f9
ORGANIZER:Volleyball
SEQUENCE:261121306
LOCATION:Hardtschule, Hardtkapellenstraße 6, 82362 Weilheim
GEO:47.84176727769220600000;11.15502437301631700000
SUMMARY:U18 KL 4 w: SV Inning II - TSV Steingaden
CLASS:PUBLIC
DTSTART:20231217T120000Z
DTSTAMP:20231217T181600Z
END:VEVENT
BEGIN:VEVENT
UID:334438-0b1cb5f82de24c98f11e829bddb1f0f9
X-WR-RELCALID:334438-0b1cb5f82de24c98f11e829bddb1f0f9
ORGANIZER:Volleyball
SEQUENCE:261121306
LOCATION:Hardtschule, Hardtkapellenstraße 6, 82362 Weilheim
GEO:47.84176727769220600000;11.15502437301631700000
SUMMARY:U18 KL 4 w: FSV Eching - SV Inning II
CLASS:PUBLIC
DTSTART:20231217T170000Z
DTSTAMP:20240121T135200Z
END:VEVENT
BEGIN:VEVENT
UID:334443-0b1cb5f82de24c98f11e829bddb1f0f9
X-WR-RELCALID:334443-0b1cb5f82de24c98f11e829bddb1f0f9
ORGANIZER:Volleyball
SEQUENCE:261121306
LOCATION:Würmseehalle, Bernrieder Str. 1, 82327 Tutzing
GEO:47.90123757672866000000;11.27253916137692600000
SUMMARY:U18 KL 4 w: TSV Weilheim - SV Inning II
CLASS:PUBLIC
DTSTART:20240121T090000Z
DTSTAMP:20240121T135000Z
END:VEVENT
BEGIN:VEVENT
UID:334445-0b1cb5f82de24c98f11e829bddb1f0f9
X-WR-RELCALID:334445-0b1cb5f82de24c98f11e829bddb1f0f9
ORGANIZER:Volleyball
SEQUENCE:261121306
LOCATION:Würmseehalle, Bernrieder Str. 1, 82327 Tutzing
GEO:47.90123757672866000000;11.27253916137692600000
SUMMARY:U18 KL 4 w: VC DJK München-Ost-Herrsching - SV Inning II
CLASS:PUBLIC
DTSTART:20240121T090000Z
DTSTAMP:20240121T134800Z
END:VEVENT
END:VCALENDAR