BEGIN:VCALENDAR
VERSION:2.0
PRODID:VSD-Portal-www.volley.de
METHOD:PUBLISH
BEGIN:VEVENT
UID:324207-0b1cb5f82de24c98f11e829bddb1f0f9
X-WR-RELCALID:324207-0b1cb5f82de24c98f11e829bddb1f0f9
ORGANIZER:Volleyball
SEQUENCE:261100919
LOCATION:Gymnasium, Jahnstraße 17, 85567 Grafing
GEO:48.04461780143573400000;11.96064935714719000000
SUMMARY:U20 BKL w: Gautinger SC - TSV Grafing
CLASS:PUBLIC
DTSTART:20231210T090000Z
DTSTAMP:20231210T095500Z
END:VEVENT
BEGIN:VEVENT
UID:324213-0b1cb5f82de24c98f11e829bddb1f0f9
X-WR-RELCALID:324213-0b1cb5f82de24c98f11e829bddb1f0f9
ORGANIZER:Volleyball
SEQUENCE:261100919
LOCATION:Gymnasium, Jahnstraße 17, 85567 Grafing
GEO:48.04461780143573400000;11.96064935714719000000
SUMMARY:U20 BKL w: SV Inning - TSV Grafing
CLASS:PUBLIC
DTSTART:20231210T100000Z
DTSTAMP:20231210T115300Z
END:VEVENT
BEGIN:VEVENT
UID:324209-0b1cb5f82de24c98f11e829bddb1f0f9
X-WR-RELCALID:324209-0b1cb5f82de24c98f11e829bddb1f0f9
ORGANIZER:Volleyball
SEQUENCE:261100919
LOCATION:Gymnasium, Jahnstraße 17, 85567 Grafing
GEO:48.04461780143573400000;11.96064935714719000000
SUMMARY:U20 BKL w: TSV Grafing - FC Kirchweidach
CLASS:PUBLIC
DTSTART:20231210T110000Z
DTSTAMP:20231210T132400Z
END:VEVENT
END:VCALENDAR