BEGIN:VCALENDAR
VERSION:2.0
PRODID:VSD-Portal-www.volley.de
METHOD:PUBLISH
BEGIN:VEVENT
UID:318035-0b1cb5f82de24c98f11e829bddb1f0f9
X-WR-RELCALID:318035-0b1cb5f82de24c98f11e829bddb1f0f9
ORGANIZER:Volleyball
SEQUENCE:261131651
SUMMARY:U18 BZL w: TSV Mühldorf II - TSV Unterhaching
CLASS:PUBLIC
DTSTART:20230924T080000Z
DTSTAMP:20230924T085100Z
END:VEVENT
END:VCALENDAR