BEGIN:VCALENDAR
VERSION:2.0
PRODID:VSD-Portal-www.volley.de
METHOD:PUBLISH
BEGIN:VEVENT
UID:343513-0b1cb5f82de24c98f11e829bddb1f0f9
X-WR-RELCALID:343513-0b1cb5f82de24c98f11e829bddb1f0f9
ORGANIZER:Volleyball
SEQUENCE:261141752
LOCATION:Sportpark Freiham, Hans-Dietrich-Genscher-Str. 11, 81249 Münc
 hen
GEO:48.14224877983681000000;11.40301025305608600000
SUMMARY:U13 OBM w: ASV Dachau III - Lechrain Volleys
CLASS:PUBLIC
DTSTART;VALUE=DATE:20240414
DTSTAMP:20240414T133700Z
DTEND;VALUE=DATE:20240415
END:VEVENT
END:VCALENDAR